BEGIN:VCALENDAR
VERSION:2.0
PRODID:-//GPO Guam - ECPv6.0.12//NONSGML v1.0//EN
CALSCALE:GREGORIAN
METHOD:PUBLISH
X-WR-CALNAME:GPO Guam
X-ORIGINAL-URL:https://www.gpoguam.com
X-WR-CALDESC:Events for GPO Guam
REFRESH-INTERVAL;VALUE=DURATION:PT1H
X-Robots-Tag:noindex
X-PUBLISHED-TTL:PT1H
BEGIN:VTIMEZONE
TZID:Pacific/Guam
BEGIN:STANDARD
TZOFFSETFROM:+1000
TZOFFSETTO:+1000
TZNAME:ChST
DTSTART:20210101T000000
END:STANDARD
END:VTIMEZONE
BEGIN:VEVENT
DTSTART;VALUE=DATE:20210903
DTEND;VALUE=DATE:20210909
DTSTAMP:20260423T085553
CREATED:20210903T044204Z
LAST-MODIFIED:20210903T044204Z
UID:13856-1630627200-1631145599@www.gpoguam.com
SUMMARY:LABOR DAY EVENT: CALVIN KLEIN ACCESSORIES
DESCRIPTION:Labor Day Event: Calvin Klein Accessories \n\nEnjoy Up to 50% Off the Entire Store at Calvin Klein & Calvin Klein Accessories!\n\n\n\nVALID UNTIL: 9.8.21.\n\nExclusions Apply.
URL:https://www.gpoguam.com/event/labor-day-event-calvin-klein-accessories/
CATEGORIES:Accessories,Fashion,Sales
END:VEVENT
BEGIN:VEVENT
DTSTART;VALUE=DATE:20210909
DTEND;VALUE=DATE:20210930
DTSTAMP:20260423T085553
CREATED:20210908T055630Z
LAST-MODIFIED:20210908T055630Z
UID:13861-1631145600-1632959999@www.gpoguam.com
SUMMARY:CALVIN KLEIN ACCESSORIES: AUTUMN ARRIVES
DESCRIPTION:Calvin Klein Accessories: Autumn Arrives \nAutumn Arrives \nSave Up to 30% Off Entire Store \n9.9.21 – 9.29.21 \nExclusions Apply
URL:https://www.gpoguam.com/event/calvin-klein-accessories-autumn-arrives/
LOCATION:Calvin Klein Accessories\, Tamuning\, Guam
CATEGORIES:Accessories,Sales
END:VEVENT
BEGIN:VEVENT
DTSTART;VALUE=DATE:20210918
DTEND;VALUE=DATE:20210919
DTSTAMP:20260423T085553
CREATED:20210916T235553Z
LAST-MODIFIED:20210916T235553Z
UID:13942-1631923200-1632009599@www.gpoguam.com
SUMMARY:SWEET SUMMER DEALS: SKECHERS UP TO 30% OFF & A FREE GIFT
DESCRIPTION:Sweet Summer Deals: Skechers Up to 30% OFF & a FREE Gift\n\nAvailable for tomorrow only\, 𝗦𝗲𝗽𝘁𝗲𝗺𝗯𝗲𝗿 𝟭𝟴\, get a 𝐅𝐑𝐄𝐄 𝐠𝐢𝐟𝐭 𝐰𝐢𝐭𝐡 𝐞𝐯𝐞𝐫𝐲 𝐤𝐢𝐝𝐬 𝐬𝐡𝐨𝐞𝐬 𝐩𝐮𝐫𝐜𝐡𝐚𝐬𝐞 at Skechers!\nPlus\, take advantage of the 𝐮𝐩 𝐭𝐨 𝟑𝟎% 𝐎𝐅𝐅 𝐒𝐮𝐦𝐦𝐞𝐫 𝐒𝐚𝐥𝐞 until September 30th.\n\n– 𝟏 𝐏𝐀𝐈𝐑 𝐑𝐄𝐂𝐄𝐈𝐕𝐄 𝟏𝟎% 𝐎𝐅𝐅\n– 𝟐 𝐏𝐀𝐈𝐑𝐒 𝐑𝐄𝐂𝐄𝐈𝐕𝐄 𝟐𝟓% 𝟎𝐅𝐅\n– 𝟑 𝐏𝐀𝐈𝐑𝐒 𝐑𝐄𝐂𝐄𝐈𝐕𝐄 𝟑𝟎% 𝐎𝐅𝐅\n\n*𝗢𝗙𝗙𝗘𝗥 𝗢𝗡𝗟𝗬 𝗔𝗩𝗔𝗜𝗟𝗔𝗕𝗟𝗘 𝗔𝗧 𝗦𝗞𝗘𝗖𝗛𝗘𝗥𝗦 𝗚𝗣𝗢 𝗟𝗢𝗖𝗔𝗧𝗜𝗢𝗡. 𝗘𝗫𝗖𝗟𝗨𝗦𝗜𝗢𝗡𝗦 𝗠𝗔𝗬 𝗔𝗣𝗣𝗟𝗬.
URL:https://www.gpoguam.com/event/sweet-summer-deals-skechers-up-to-30-off-a-free-gift/
LOCATION:Skechers
CATEGORIES:Accessories,Fashion,Sales
END:VEVENT
END:VCALENDAR