BEGIN:VCALENDAR
VERSION:2.0
PRODID:-//GPO Guam - ECPv6.0.12//NONSGML v1.0//EN
CALSCALE:GREGORIAN
METHOD:PUBLISH
X-ORIGINAL-URL:https://www.gpoguam.com
X-WR-CALDESC:Events for GPO Guam
REFRESH-INTERVAL;VALUE=DURATION:PT1H
X-Robots-Tag:noindex
X-PUBLISHED-TTL:PT1H
BEGIN:VTIMEZONE
TZID:Pacific/Guam
BEGIN:STANDARD
TZOFFSETFROM:+1000
TZOFFSETTO:+1000
TZNAME:ChST
DTSTART:20210101T000000
END:STANDARD
END:VTIMEZONE
BEGIN:VEVENT
DTSTART;VALUE=DATE:20210909
DTEND;VALUE=DATE:20210930
DTSTAMP:20260423T085646
CREATED:20210908T055630Z
LAST-MODIFIED:20210908T055630Z
UID:13861-1631145600-1632959999@www.gpoguam.com
SUMMARY:CALVIN KLEIN ACCESSORIES: AUTUMN ARRIVES
DESCRIPTION:Calvin Klein Accessories: Autumn Arrives \nAutumn Arrives \nSave Up to 30% Off Entire Store \n9.9.21 – 9.29.21 \nExclusions Apply
URL:https://www.gpoguam.com/event/calvin-klein-accessories-autumn-arrives/
LOCATION:Calvin Klein Accessories\, Tamuning\, Guam
CATEGORIES:Accessories,Sales
END:VEVENT
END:VCALENDAR