BEGIN:VCALENDAR
VERSION:2.0
PRODID:-//GPO Guam - ECPv6.0.12//NONSGML v1.0//EN
CALSCALE:GREGORIAN
METHOD:PUBLISH
X-ORIGINAL-URL:https://www.gpoguam.com
X-WR-CALDESC:Events for GPO Guam
REFRESH-INTERVAL;VALUE=DURATION:PT1H
X-Robots-Tag:noindex
X-PUBLISHED-TTL:PT1H
BEGIN:VTIMEZONE
TZID:Pacific/Guam
BEGIN:STANDARD
TZOFFSETFROM:+1000
TZOFFSETTO:+1000
TZNAME:ChST
DTSTART:20250101T000000
END:STANDARD
END:VTIMEZONE
BEGIN:VEVENT
DTSTART;TZID=Pacific/Guam:20250607T100000
DTEND;TZID=Pacific/Guam:20250607T180000
DTSTAMP:20260420T113834
CREATED:20250605T035042Z
LAST-MODIFIED:20250605T035042Z
UID:16444-1749290400-1749319200@www.gpoguam.com
SUMMARY:June Pop-Up Event
DESCRIPTION:Don’t miss the June Pop-Up Shop at Guam Premier Outlets on June 7\, 2025\, from 10 AM – 6 PM! \n✨ Local vendors\, great finds\, and a cultural performance by Guma Aniten I Taotao Tano at 1 PM in the Food Court. \nCome out and support local! 🌴🎉
URL:https://www.gpoguam.com/event/june-pop-up-event/
LOCATION:GPO Shopping Center
CATEGORIES:Accessories,Fashion,Pop-Up
END:VEVENT
END:VCALENDAR