BEGIN:VCALENDAR
VERSION:2.0
PRODID:-//GPO Guam - ECPv6.0.12//NONSGML v1.0//EN
CALSCALE:GREGORIAN
METHOD:PUBLISH
X-ORIGINAL-URL:https://www.gpoguam.com
X-WR-CALDESC:Events for GPO Guam
REFRESH-INTERVAL;VALUE=DURATION:PT1H
X-Robots-Tag:noindex
X-PUBLISHED-TTL:PT1H
BEGIN:VTIMEZONE
TZID:Pacific/Guam
BEGIN:STANDARD
TZOFFSETFROM:+1000
TZOFFSETTO:+1000
TZNAME:ChST
DTSTART:20200101T000000
END:STANDARD
END:VTIMEZONE
BEGIN:VEVENT
DTSTART;VALUE=DATE:20210712
DTEND;VALUE=DATE:20210802
DTSTAMP:20260421T185013
CREATED:20210715T014842Z
LAST-MODIFIED:20210715T014842Z
UID:13751-1626048000-1627862399@www.gpoguam.com
SUMMARY:CALVIN KLEIN ACCESSORIES: SUMMER SALE
DESCRIPTION:Calvin Klein Accessories: Summer Sale \nAccessories Up to 50% Off \n7.12.21 – 8.1.21 \nExclusions Apply
URL:https://www.gpoguam.com/event/calvin-klein-accessories-summer-sale/
LOCATION:Calvin Klein Accessories\, Tamuning\, Guam
CATEGORIES:Accessories,Sales
END:VEVENT
BEGIN:VEVENT
DTSTART;VALUE=DATE:20210610
DTEND;VALUE=DATE:20210617
DTSTAMP:20260421T185013
CREATED:20210610T013654Z
LAST-MODIFIED:20210610T013654Z
UID:13690-1623283200-1623887999@www.gpoguam.com
SUMMARY:CALVIN KLEIN ACCESSORIES: WARDROBE REFRESH
DESCRIPTION:Calvin Klein Accessories: Wardrobe Refresh \nAccessories Up to 40% Off \n6.10.21 – 6.16.21 \nExclusions Apply
URL:https://www.gpoguam.com/event/calvin-klein-accessories-wardrobe-refresh/
LOCATION:Calvin Klein Accessories\, Tamuning\, Guam
CATEGORIES:Accessories,Sales
END:VEVENT
BEGIN:VEVENT
DTSTART;VALUE=DATE:20210601
DTEND;VALUE=DATE:20210610
DTSTAMP:20260421T185013
CREATED:20210603T063446Z
LAST-MODIFIED:20210603T063446Z
UID:13681-1622505600-1623283199@www.gpoguam.com
SUMMARY:CALVIN KLEIN ACCESSORIES: THE SWIM EVENT
DESCRIPTION:Calvin Klein Accessories: The Swim Event \nAccessories Up to 50% Off \n6.1.21 – 6.9.21 \nExclusions Apply
URL:https://www.gpoguam.com/event/calvin-klein-accessories-the-swim-event/
LOCATION:Calvin Klein Accessories\, Tamuning\, Guam
CATEGORIES:Accessories,Sales
END:VEVENT
BEGIN:VEVENT
DTSTART;VALUE=DATE:20210511
DTEND;VALUE=DATE:20210527
DTSTAMP:20260421T185013
CREATED:20210516T013356Z
LAST-MODIFIED:20210516T013356Z
UID:13648-1620691200-1622073599@www.gpoguam.com
SUMMARY:CALVIN KLEIN ACCESSORIES: THE SUMMER EVENT
DESCRIPTION:Calvin Klein Accessories: The Summer Event \nAccessories Up to 50% Off \n5.11.21 – 5.26.21 \nExclusions Apply
URL:https://www.gpoguam.com/event/calvin-klein-accessories-the-summer-event/
LOCATION:by Calvin Klein
CATEGORIES:Accessories,Sales
END:VEVENT
BEGIN:VEVENT
DTSTART;VALUE=DATE:20210503
DTEND;VALUE=DATE:20210510
DTSTAMP:20260421T185013
CREATED:20210503T055059Z
LAST-MODIFIED:20210503T055059Z
UID:13589-1620000000-1620604799@www.gpoguam.com
SUMMARY:CALVIN KLEIN ACCESSORIES: THE WARM WEATHER SALE
DESCRIPTION:Calvin Klein Accessories: The Warm Weather Sale \nAccessories Up to 50% Off \n5.3.21 – 5.9.21 \nExclusions Apply
URL:https://www.gpoguam.com/event/calvin-klein-accessories-the-warm-weather-sale/
LOCATION:Calvin Klein Accessories\, Tamuning\, Guam
CATEGORIES:Accessories,Sales
END:VEVENT
BEGIN:VEVENT
DTSTART;VALUE=DATE:20210412
DTEND;VALUE=DATE:20210422
DTSTAMP:20260421T185013
CREATED:20210412T012545Z
LAST-MODIFIED:20210412T012545Z
UID:13570-1618185600-1619049599@www.gpoguam.com
SUMMARY:CALVIN KLEIN ACCESSORIES: THE NEW SEASON EVENT
DESCRIPTION:Calvin Klein Accessories: The New Season Event \nAccessories Up to 50% Off \n4.12.21 – 4.21.21 \nExclusions Apply
URL:https://www.gpoguam.com/event/calvin-klein-accessories-the-new-season-event/
LOCATION:Calvin Klein Accessories\, Tamuning\, Guam
CATEGORIES:Accessories,Sales
END:VEVENT
BEGIN:VEVENT
DTSTART;VALUE=DATE:20210301
DTEND;VALUE=DATE:20210401
DTSTAMP:20260421T185013
CREATED:20210307T023438Z
LAST-MODIFIED:20210307T023438Z
UID:13506-1614556800-1617235199@www.gpoguam.com
SUMMARY:SKECHERS: BOGO FREE SALE
DESCRIPTION:Skechers: Buy One Get one FREE \nSkechers Buy One Get One FREE sale has been extended until \nMarch 31\, 2021! \nThe sale is only available at our GPO location. \n*PURCHASE ANY TWO ITEMS IN THE SAME TRANSACTION & RECEIVE THE SECOND ITEM FREE. FREE ITEM MUST BE EQUAL OR OF LESSER VALUE. FOR GUAM RESIDENTS ONLY. SKECHERS’ DECISION SHALL BE FINAL.
URL:https://www.gpoguam.com/event/skechers-bogo-free-sale/
LOCATION:Skechers
CATEGORIES:Accessories,Fashion,Sales
END:VEVENT
BEGIN:VEVENT
DTSTART;VALUE=DATE:20210226
DTEND;VALUE=DATE:20210302
DTSTAMP:20260421T185013
CREATED:20210228T014533Z
LAST-MODIFIED:20210228T014533Z
UID:13485-1614297600-1614643199@www.gpoguam.com
SUMMARY:FAMOUS FOOTWEAR: WEEKEND SALE
DESCRIPTION:Famous Footwear: Weekend Sale \nReceive $10 OFF when you purchase $50 or more at Famous Footwear. \nVALID UNTIL: MARCH 01\, 2021 \n 
URL:https://www.gpoguam.com/event/famous-footwear-weekend-sale/
LOCATION:Famous Footwear
CATEGORIES:Accessories,Fashion,Sales
END:VEVENT
BEGIN:VEVENT
DTSTART;VALUE=DATE:20210218
DTEND;VALUE=DATE:20210401
DTSTAMP:20260421T185013
CREATED:20210218T023417Z
LAST-MODIFIED:20210218T023417Z
UID:13448-1613606400-1617235199@www.gpoguam.com
SUMMARY:GUESS & LEVI'S OUTLET STORE: NOW OPEN!
DESCRIPTION:Guess & Levi’s has opened a new outlet store near Famous Footwear. \nCome on by and check out the amazing deals on apparel\, handbags\, shoes\, & more!
URL:https://www.gpoguam.com/event/guess-levis-outlet-store-now-open/
LOCATION:Guess? Outlet
CATEGORIES:Accessories,Fashion,Sales
END:VEVENT
BEGIN:VEVENT
DTSTART;VALUE=DATE:20210211
DTEND;VALUE=DATE:20210216
DTSTAMP:20260421T185013
CREATED:20210204T011823Z
LAST-MODIFIED:20210204T011823Z
UID:13383-1613001600-1613433599@www.gpoguam.com
SUMMARY:CALVIN KLEIN ACCESSORIES: THE HOLIDAY WEEKEND EVENT
DESCRIPTION:Calvin Klein Accessories: The Holiday Weekend Event \nAccessories Up to 60% Off \n2.11.21 – 2.15.21 \n*Exclusions Apply
URL:https://www.gpoguam.com/event/calvin-klein-accessories-the-holiday-weekend-event/
LOCATION:by Calvin Klein
CATEGORIES:Accessories,Fashion,Sales
END:VEVENT
BEGIN:VEVENT
DTSTART;VALUE=DATE:20210204
DTEND;VALUE=DATE:20210216
DTSTAMP:20260421T185013
CREATED:20210207T063850Z
LAST-MODIFIED:20210207T063850Z
UID:13397-1612396800-1613433599@www.gpoguam.com
SUMMARY:FRAGRANCE OUTLET: BUY ONE GET ONE UP TO 50% OFF
DESCRIPTION:Fragrance Outlet: Buy One Get One Up To 50% OFF \nBuy One Fragrance and Get One Fragrance up to 50% OFF at Fragrance Outlet. \nPlus\, receive a 18K Rose Gold Plated Necklace with CZ heart when you spend $149 or more.* \nDiscounted Fragrances – $15 with any purchase \n*LIMIT (1) GIFT PER CUSTOMER. WHILE SUPPLIES LAST. \nValid Until: February 15\, 2021
URL:https://www.gpoguam.com/event/fragrance-outlet-buy-one-get-one-up-to-50-off/
LOCATION:Fragrance Outlet
CATEGORIES:Accessories,Sales
END:VEVENT
BEGIN:VEVENT
DTSTART;VALUE=DATE:20210201
DTEND;VALUE=DATE:20210211
DTSTAMP:20260421T185013
CREATED:20210204T005449Z
LAST-MODIFIED:20210204T005449Z
UID:13377-1612137600-1613001599@www.gpoguam.com
SUMMARY:CALVIN KLEIN ACCESSORIES: THE ACTIVEWEAR EVENT
DESCRIPTION:Calvin Klein Accessories: The Activewear Event \nAccessories Up to 30% Off \nValid Until: February 10. 2021 \n*Exclusions Apply
URL:https://www.gpoguam.com/event/calvin-klein-accessories-the-activewear-event/
LOCATION:by Calvin Klein
CATEGORIES:Accessories,Fashion,Sales
END:VEVENT
BEGIN:VEVENT
DTSTART;VALUE=DATE:20210119
DTEND;VALUE=DATE:20210201
DTSTAMP:20260421T185013
CREATED:20210118T023029Z
LAST-MODIFIED:20210118T023029Z
UID:13343-1611014400-1612137599@www.gpoguam.com
SUMMARY:CALVIN KLEIN ACCESSORIES: NEW SPRING ARRIVALS
DESCRIPTION:Calvin Klein Accessories: New Spring Arrivals \nAccessories Up to 60% Off \n1.19.21 – 1.31.21 \n*Exclusions Apply
URL:https://www.gpoguam.com/event/calvin-klein-accessories-new-spring-arrivals/
LOCATION:by Calvin Klein
CATEGORIES:Accessories,Fashion,Sales
END:VEVENT
BEGIN:VEVENT
DTSTART;VALUE=DATE:20210101
DTEND;VALUE=DATE:20210301
DTSTAMP:20260421T185013
CREATED:20210118T025412Z
LAST-MODIFIED:20210118T025412Z
UID:13349-1609459200-1614556799@www.gpoguam.com
SUMMARY:SKECHERS: HAPPY 2021 SALE
DESCRIPTION:Skechers: Happy 2021 Sale \nBuy One Get One FREE shoe at Skechers. \nPromotion Valid Until: February 28\, 2021 \n* SALE ONLY AT OUR GPO LOCATION. PURCHASE ANY TW0 ITEMS IN THE SAME TRANSACTION & RECEIVE THE SECOND ITEM FREE. SECOND ITEM MUST BE EQUAL OR OF LESSER VALUE. PROMOTION ONLY VALID FOR GUAM RESIDENTS. SKECHERS’ DECISION SHALL BE FINAL.
URL:https://www.gpoguam.com/event/skechers-happy-2021-sale/
CATEGORIES:Accessories,Fashion,Sales
END:VEVENT
BEGIN:VEVENT
DTSTART;VALUE=DATE:20201203
DTEND;VALUE=DATE:20201217
DTSTAMP:20260421T185013
CREATED:20201201T014409Z
LAST-MODIFIED:20201201T014409Z
UID:13231-1606953600-1608163199@www.gpoguam.com
SUMMARY:CALVIN KLEIN ACCESSORIES: The Gift of Calvin
DESCRIPTION:Calvin Klein Accessories: The Gift of Calvin \nVALID UNTIL: December 16\, 2020 \nEnjoy up to 70% OFF the entire store! \n*Exclusions may apply. \n 
URL:https://www.gpoguam.com/event/calvin-klein-accessories-the-gift-of-calvin/
CATEGORIES:Accessories,Fashion,Sales
END:VEVENT
BEGIN:VEVENT
DTSTART;VALUE=DATE:20201127
DTEND;VALUE=DATE:20201201
DTSTAMP:20260421T185013
CREATED:20201125T112702Z
LAST-MODIFIED:20201125T112702Z
UID:13208-1606435200-1606780799@www.gpoguam.com
SUMMARY:VINCE JEWELERS: Black Friday Sale
DESCRIPTION:Vince Jewelers: Black Friday Sale \nVALID UNTIL: November 30\, 2020 \nSave up to 60% OFF & an additional 15% OFF in-store at Vince Jewelers!
URL:https://www.gpoguam.com/event/vince-jewelers-black-friday-sale/
LOCATION:Vince Jewelers\, Guam
CATEGORIES:Accessories,Sales
END:VEVENT
END:VCALENDAR