BEGIN:VCALENDAR
VERSION:2.0
PRODID:-//GPO Guam - ECPv6.0.12//NONSGML v1.0//EN
CALSCALE:GREGORIAN
METHOD:PUBLISH
X-ORIGINAL-URL:https://www.gpoguam.com
X-WR-CALDESC:Events for GPO Guam
REFRESH-INTERVAL;VALUE=DURATION:PT1H
X-Robots-Tag:noindex
X-PUBLISHED-TTL:PT1H
BEGIN:VTIMEZONE
TZID:Pacific/Guam
BEGIN:STANDARD
TZOFFSETFROM:+1000
TZOFFSETTO:+1000
TZNAME:ChST
DTSTART:20240101T000000
END:STANDARD
END:VTIMEZONE
BEGIN:VEVENT
DTSTART;VALUE=DATE:20240518
DTEND;VALUE=DATE:20240601
DTSTAMP:20260422T143722
CREATED:20240415T230252Z
LAST-MODIFIED:20240415T230252Z
UID:15833-1715990400-1717199999@www.gpoguam.com
SUMMARY:Moving Colors: Series 8
DESCRIPTION:Join us for a special opening event celebrating the incredible artwork of our elderly artists. \nExperience the transformative power of art as we showcase their talent and creativity.
URL:https://www.gpoguam.com/event/moving-colors-series-8/
LOCATION:GPO Shopping Center
CATEGORIES:Entertainment,Outreach Event
END:VEVENT
END:VCALENDAR