BEGIN:VCALENDAR
VERSION:2.0
PRODID:-//GPO Guam - ECPv6.0.12//NONSGML v1.0//EN
CALSCALE:GREGORIAN
METHOD:PUBLISH
X-WR-CALNAME:GPO Guam
X-ORIGINAL-URL:https://www.gpoguam.com
X-WR-CALDESC:Events for GPO Guam
REFRESH-INTERVAL;VALUE=DURATION:PT1H
X-Robots-Tag:noindex
X-PUBLISHED-TTL:PT1H
BEGIN:VTIMEZONE
TZID:Pacific/Guam
BEGIN:STANDARD
TZOFFSETFROM:+1000
TZOFFSETTO:+1000
TZNAME:ChST
DTSTART:20230101T000000
END:STANDARD
END:VTIMEZONE
BEGIN:VEVENT
DTSTART;TZID=Pacific/Guam:20250304T160000
DTEND;TZID=Pacific/Guam:20250304T190000
DTSTAMP:20260421T003901
CREATED:20250225T050913Z
LAST-MODIFIED:20250225T050913Z
UID:16174-1741104000-1741114800@www.gpoguam.com
SUMMARY:Guam Memorial Hospital Volunteers Association Raffle Tickets Booth
DESCRIPTION:Get ready to win big! Raffle tickets will be sold at GPO starting March 4th\, every Tuesday\, Friday\, and Saturday from 4-7 PM near Tommy Hilfiger. Don’t miss out on your chance to enter!
URL:https://www.gpoguam.com/event/guam-memorial-hospital-volunteers-association-raffle-tickets-booth/
LOCATION:GPO Shopping Center
CATEGORIES:Outreach Event
END:VEVENT
BEGIN:VEVENT
DTSTART;TZID=Pacific/Guam:20250301T050000
DTEND;TZID=Pacific/Guam:20250301T090000
DTSTAMP:20260421T003901
CREATED:20250225T054648Z
LAST-MODIFIED:20250225T055629Z
UID:16224-1740805200-1740819600@www.gpoguam.com
SUMMARY:37th Rainbows for All Children Guam
DESCRIPTION:Join the 37th Rainbows for All Children Guam 3.5-mile Run/Walk on March 1\, 2025! \n\n\nRegister in advance for $15 from February 17-28 at St. Anthony Catholic School (8 AM – 5 PM)\nRace day registration is $20. Let’s come together to support our youth!\n\n\n===
URL:https://www.gpoguam.com/event/37th-rainbows-for-all-children-guam/
LOCATION:Theater Plaza
CATEGORIES:Outreach Event
END:VEVENT
BEGIN:VEVENT
DTSTART;TZID=Pacific/Guam:20250222T100000
DTEND;TZID=Pacific/Guam:20250223T180000
DTSTAMP:20260421T003901
CREATED:20250213T010929Z
LAST-MODIFIED:20250213T011024Z
UID:16160-1740218400-1740333600@www.gpoguam.com
SUMMARY:Guam Girl Scouts Cookie Booth
DESCRIPTION:Support our local Guam Girl Scouts and get your favorite Girl Scout Cookies at this weekend’s Cookie Booth locations! From Feb. 14th – Feb. 17th! 🍪🍪🍪 \n📍 Agana Shopping Center\n📍 Guam Premier Outlets (GPO)\n📍 AAFB BX (Base Exchange)\n📍 NBG Commissary\n📍 NEX Main Store | NEX Home Store \nCookie booth dates and locations for the following weekend will be announced next week!
URL:https://www.gpoguam.com/event/guam-girl-scouts-cookie-booth-5/
LOCATION:by Ross
CATEGORIES:Food & Beverage,Outreach Event
END:VEVENT
BEGIN:VEVENT
DTSTART;TZID=Pacific/Guam:20250215T100000
DTEND;TZID=Pacific/Guam:20250216T180000
DTSTAMP:20260421T003901
CREATED:20250213T010816Z
LAST-MODIFIED:20250213T011103Z
UID:16158-1739613600-1739728800@www.gpoguam.com
SUMMARY:Guam Girl Scouts Cookie Booth
DESCRIPTION:Support our local Guam Girl Scouts and get your favorite Girl Scout Cookies at this weekend’s Cookie Booth locations! From Feb. 14th – Feb. 17th! 🍪🍪🍪 \n📍 Agana Shopping Center\n📍 Guam Premier Outlets (GPO)\n📍 AAFB BX (Base Exchange)\n📍 NBG Commissary\n📍 NEX Main Store | NEX Home Store \nCookie booth dates and locations for the following weekend will be announced next week!
URL:https://www.gpoguam.com/event/guam-girl-scouts-cookie-booth-4/
LOCATION:by Ross
CATEGORIES:Food & Beverage,Outreach Event
END:VEVENT
BEGIN:VEVENT
DTSTART;TZID=Pacific/Guam:20250131T160000
DTEND;TZID=Pacific/Guam:20250131T173000
DTSTAMP:20260421T003901
CREATED:20250102T230512Z
LAST-MODIFIED:20250102T230545Z
UID:16120-1738339200-1738344600@www.gpoguam.com
SUMMARY:4th Annual Korean New Year Youth K-Pop Dance Contest
DESCRIPTION:Celebrate the Korean New Year with an exciting Youth K-Pop Dance Contest! 🕺💃 High school students\, showcase your talent and compete for cash prizes on January 31st\, 2025\, at 4:00 PM at GPO Food Court! No entry fee required. \nHosted by the Korean Freedom Federation of Guam. \nTo register\, contact Ina Lee at (671) 488-2800. Don’t miss out!
URL:https://www.gpoguam.com/event/4th-annual-korean-new-year-youth-k-pop-dance-contest/
LOCATION:GPO Food Court
CATEGORIES:Entertainment,Giveaway,Outreach Event
END:VEVENT
BEGIN:VEVENT
DTSTART;TZID=Pacific/Guam:20241026T110000
DTEND;TZID=Pacific/Guam:20241026T140000
DTSTAMP:20260421T003901
CREATED:20241009T052101Z
LAST-MODIFIED:20241009T052101Z
UID:16039-1729940400-1729951200@www.gpoguam.com
SUMMARY:Rocky's Pet Costume Contest and Guam Animals in Need Adoption Event
DESCRIPTION:LET’S GET SPOOKY!! On Saturday\, October 26th join Rocky’s Pet Supplies & Guam Animals In Need at GPO Guam for a SPOOKTACULAR TIME at our 3rd Annual Howl-O-Ween Costume Contest!🎃🎃🎃 \nBring your furry friend in costume between 12pm – 2pm at the GPO Center Court to WIN one of 3 un-BOO-lievable prizes! \nJoin us as we have a FANG-tastic time!! \nHOW TO ENTER: \n🎃 All pets MUST wear a costume to be entered. \n🎃 Register to enter your pet at the Rocky’s Pet Supplies Store between October 9/24/2024 – 10/25/2024. \n🎃 Registration starts at 11am on Saturday\, October 28th. \n🎃 There will be three (3) categories: “Funniest”\, “Most Creative Costume”\, & “Best Duo (Owner + Dog)”. \n🎃 Winners will receive a special gift basket filled with one $50 gift certificate to Rocky’s Pet Supplies as well as prizes to select GPO stores PLUS prizes for both owner & pet!
URL:https://www.gpoguam.com/event/rockys-pet-costume-contest-and-guam-animals-in-need-adoption-event/
LOCATION:GPO Center Court\, Guam
CATEGORIES:Entertainment,Outreach Event
END:VEVENT
BEGIN:VEVENT
DTSTART;TZID=Pacific/Guam:20241026T100000
DTEND;TZID=Pacific/Guam:20241026T140000
DTSTAMP:20260421T003901
CREATED:20241010T040629Z
LAST-MODIFIED:20241010T040629Z
UID:16042-1729936800-1729951200@www.gpoguam.com
SUMMARY:National Take Back Intiative
DESCRIPTION:
URL:https://www.gpoguam.com/event/national-take-back-intiative-2/
LOCATION:Shopping Mall\, 195-199 5th Ave New York\, New York\, United States
CATEGORIES:Outreach Event
END:VEVENT
BEGIN:VEVENT
DTSTART;TZID=Pacific/Guam:20240810T100000
DTEND;TZID=Pacific/Guam:20240810T140000
DTSTAMP:20260421T003901
CREATED:20240808T234724Z
LAST-MODIFIED:20240808T234724Z
UID:16003-1723284000-1723298400@www.gpoguam.com
SUMMARY:Love Your Kids Month
DESCRIPTION:
URL:https://www.gpoguam.com/event/love-your-kids-month/
CATEGORIES:Outreach Event
END:VEVENT
BEGIN:VEVENT
DTSTART;TZID=Pacific/Guam:20240803T120000
DTEND;TZID=Pacific/Guam:20240803T170000
DTSTAMP:20260421T003901
CREATED:20240729T052901Z
LAST-MODIFIED:20240802T005745Z
UID:15966-1722686400-1722704400@www.gpoguam.com
SUMMARY:2024 Summer Showdown
DESCRIPTION:Here are the dates for the remaining tournaments of our 2024 SUMMER/FALL SERIES! Registration links will be shared in the near future. \nReminder that tournament fees must be paid for BEFORE the day of! \nCan’t pay online? You can pay for your entrance fee in CASH at @isekai.gu in Agana Shopping Center (2nd floor)!
URL:https://www.gpoguam.com/event/2024-summer-showdown/
CATEGORIES:Entertainment,Outreach Event
END:VEVENT
BEGIN:VEVENT
DTSTART;TZID=Pacific/Guam:20240802T120000
DTEND;TZID=Pacific/Guam:20240802T150000
DTSTAMP:20260421T003901
CREATED:20240729T053136Z
LAST-MODIFIED:20240802T005700Z
UID:15969-1722600000-1722610800@www.gpoguam.com
SUMMARY:GPO Job Fair
DESCRIPTION:Join us and apply to join the team here at our shopping center at our mini Job Fair on Friday\, August 2. \nNetwork\, apply\, and receive more information from the businesses you’re interested in working for. \nJob Fair is from 12pm – 3pm. Visit our info booth on how to enter the hourly giveaway. \nSTORES & RESTAURANTS HIRING: \n\nAjisen Ramen\nAuntie Anne’s\nChatime\nChili’s\nFamous Footwear\nG4S\nHaagen-Dazs\nKFC\nRoss Dress for Less\nSbarro\nSubway\nVince Jewelers\n\n\nSpecial Thanks to: Ajisen Ramen\, Haagen-Dazs\, Ross\, Subway\, & Vince Jewelers
URL:https://www.gpoguam.com/event/gpo-job-fair/
CATEGORIES:Outreach Event
END:VEVENT
BEGIN:VEVENT
DTSTART;TZID=Pacific/Guam:20240601T120000
DTEND;TZID=Pacific/Guam:20240601T170000
DTSTAMP:20260421T003901
CREATED:20240531T043927Z
LAST-MODIFIED:20240531T043927Z
UID:15895-1717243200-1717261200@www.gpoguam.com
SUMMARY:Latte Esports Tekken event
DESCRIPTION:Hey MLBB Fans! Join us for an epic meetup and win free diamonds from Moonton! \nThe Marianas Esports League will be at the Latte Esports Tekken event\, hosting a special gathering for Mobile Legends: Bang Bang fans on Guam! \nCome by to meet the new players from Guam\, connect with our current MESL league members\, and clash for a chance to win free diamonds! \nMeet-up event starts at 12:00PM-5:00PM\, Must be registered to join.\nSee you at the GPO Esports Arena!
URL:https://www.gpoguam.com/event/latte-esports-tekken-event/
CATEGORIES:Entertainment,Outreach Event
END:VEVENT
BEGIN:VEVENT
DTSTART;VALUE=DATE:20240518
DTEND;VALUE=DATE:20240601
DTSTAMP:20260421T003901
CREATED:20240415T230252Z
LAST-MODIFIED:20240415T230252Z
UID:15833-1715990400-1717199999@www.gpoguam.com
SUMMARY:Moving Colors: Series 8
DESCRIPTION:Join us for a special opening event celebrating the incredible artwork of our elderly artists. \nExperience the transformative power of art as we showcase their talent and creativity.
URL:https://www.gpoguam.com/event/moving-colors-series-8/
LOCATION:GPO Shopping Center
CATEGORIES:Entertainment,Outreach Event
END:VEVENT
BEGIN:VEVENT
DTSTART;TZID=Pacific/Guam:20240427T100000
DTEND;TZID=Pacific/Guam:20240427T140000
DTSTAMP:20260421T003901
CREATED:20240412T052106Z
LAST-MODIFIED:20240412T052106Z
UID:15823-1714212000-1714226400@www.gpoguam.com
SUMMARY:National Take Back Initiative
DESCRIPTION:
URL:https://www.gpoguam.com/event/national-take-back-initiative-2/
LOCATION:GPO Shopping Center
CATEGORIES:Outreach Event
END:VEVENT
BEGIN:VEVENT
DTSTART;TZID=Pacific/Guam:20240413T110000
DTEND;TZID=Pacific/Guam:20240413T170000
DTSTAMP:20260421T003901
CREATED:20240412T054545Z
LAST-MODIFIED:20240412T054545Z
UID:15826-1713006000-1713027600@www.gpoguam.com
SUMMARY:Guam Weightlifting Federation Fundraiser
DESCRIPTION:The Guam Weightlifting Federation will be fundraising near Tommy Hilfiger Kids to assist athletes attend off-island competitions and the 2024 GWF Youth\, Junior\, and Senior championships.
URL:https://www.gpoguam.com/event/guam-weightlifting-federation-fundraiser/
LOCATION:GPO Shopping Center
CATEGORIES:Outreach Event
END:VEVENT
BEGIN:VEVENT
DTSTART;TZID=Pacific/Guam:20240224T100000
DTEND;TZID=Pacific/Guam:20240224T160000
DTSTAMP:20260421T003901
CREATED:20240117T232408Z
LAST-MODIFIED:20240117T232408Z
UID:15566-1708768800-1708790400@www.gpoguam.com
SUMMARY:Guam Girl Scouts Cookie Booth
DESCRIPTION:The Guam Girl Scouts will be here at GPO selling their delicious cookies. \nMake sure to stop by and grab your favorite baked goods! While supplies last. \nLocation: Near ITE / Ross \nDates: \nFebruary 9: 4pm – 6pm \nFebruary 10: 10am – 4pm \nFebruary 11: 10am – 4pm \nFebruary 16: 4pm – 6pm \nFebruary 17: 10am – 4pm \nFebruary 23: 4pm – 6pm \nFebruary 24: 10am – 4pm
URL:https://www.gpoguam.com/event/guam-girl-scouts-cookie-booth-10/
LOCATION:ITE
CATEGORIES:Outreach Event
END:VEVENT
BEGIN:VEVENT
DTSTART;TZID=Pacific/Guam:20240223T160000
DTEND;TZID=Pacific/Guam:20240223T180000
DTSTAMP:20260421T003901
CREATED:20240117T232146Z
LAST-MODIFIED:20240117T232146Z
UID:15562-1708704000-1708711200@www.gpoguam.com
SUMMARY:Guam Girl Scouts Cookie Booth
DESCRIPTION:The Guam Girl Scouts will be here at GPO selling their delicious cookies. \nMake sure to stop by and grab your favorite baked goods! While supplies last. \nLocation: Near ITE / Ross \nDates: \nFebruary 9: 4pm – 6pm \nFebruary 10: 10am – 4pm \nFebruary 11: 10am – 4pm \nFebruary 16: 4pm – 6pm \nFebruary 17: 10am – 4pm \nFebruary 23: 4pm – 6pm \nFebruary 24: 10am – 4pm
URL:https://www.gpoguam.com/event/guam-girl-scouts-cookie-booth-9/
LOCATION:ITE
CATEGORIES:Outreach Event
END:VEVENT
BEGIN:VEVENT
DTSTART;TZID=Pacific/Guam:20240217T100000
DTEND;TZID=Pacific/Guam:20240217T180000
DTSTAMP:20260421T003901
CREATED:20240117T232028Z
LAST-MODIFIED:20240117T232028Z
UID:15559-1708164000-1708192800@www.gpoguam.com
SUMMARY:Guam Girl Scouts Cookie Booth
DESCRIPTION:The Guam Girl Scouts will be here at GPO selling their delicious cookies. \nMake sure to stop by and grab your favorite baked goods! While supplies last. \nLocation: Near ITE / Ross \nDates: \nFebruary 9: 4pm – 6pm \nFebruary 10: 10am – 4pm \nFebruary 11: 10am – 4pm \nFebruary 16: 4pm – 6pm \nFebruary 17: 10am – 4pm \nFebruary 23: 4pm – 6pm \nFebruary 24: 10am – 4pm
URL:https://www.gpoguam.com/event/guam-girl-scouts-cookie-booth-8/
LOCATION:ITE
CATEGORIES:Outreach Event
END:VEVENT
BEGIN:VEVENT
DTSTART;TZID=Pacific/Guam:20240216T160000
DTEND;TZID=Pacific/Guam:20240216T180000
DTSTAMP:20260421T003901
CREATED:20240117T231856Z
LAST-MODIFIED:20240117T231856Z
UID:15557-1708099200-1708106400@www.gpoguam.com
SUMMARY:Guam Girl Scouts Cookie Booth
DESCRIPTION:The Guam Girl Scouts will be here at GPO selling their delicious cookies. \nMake sure to stop by and grab your favorite baked goods! While supplies last. \nLocation: Near ITE / Ross \nDates: \nFebruary 9: 4pm – 6pm \nFebruary 10: 10am – 4pm \nFebruary 11: 10am – 4pm \nFebruary 16: 4pm – 6pm \nFebruary 17: 10am – 4pm \nFebruary 23: 4pm – 6pm \nFebruary 24: 10am – 4pm
URL:https://www.gpoguam.com/event/guam-girl-scouts-cookie-booth-7/
LOCATION:ITE
CATEGORIES:Outreach Event
END:VEVENT
BEGIN:VEVENT
DTSTART;TZID=Pacific/Guam:20240210T100000
DTEND;TZID=Pacific/Guam:20240210T160000
DTSTAMP:20260421T003901
CREATED:20240117T231739Z
LAST-MODIFIED:20240208T231502Z
UID:15554-1707559200-1707580800@www.gpoguam.com
SUMMARY:Guam Girl Scouts Cookie Booth
DESCRIPTION:The Guam Girl Scouts will be here at GPO selling their delicious cookies. \nMake sure to stop by and grab your favorite baked goods! While supplies last. \nLocation: Near ITE / Ross \nDates: \nFebruary 10: 10am – 4pm \nFebruary 16: 4pm – 6pm \nFebruary 17: 10am – 4pm \nFebruary 23: 4pm – 6pm \nFebruary 24: 10am – 4pm
URL:https://www.gpoguam.com/event/guam-girl-scouts-cookie-booth-6/
LOCATION:ITE
CATEGORIES:Outreach Event
END:VEVENT
BEGIN:VEVENT
DTSTART;VALUE=DATE:20231206
DTEND;VALUE=DATE:20231225
DTSTAMP:20260421T003901
CREATED:20231207T011227Z
LAST-MODIFIED:20231207T011321Z
UID:15450-1701820800-1703462399@www.gpoguam.com
SUMMARY:Gift Wrapping at GPO
DESCRIPTION:The season of giving is also the busiest time of the year for many shoppers. Save time on gift wrapping and drop your gifts to the gift wrapping stations here at GPO. \nFor more info or gift wrapping schedule 📞 671-647-4032. \nGIFT WRAPPING PROVIDED BY: \nBarrigada Church Post Confirmation Program \nGMH Pediatric Ward hosted by the Bank of Guam’s Loan Support Team \nGeorge Washington High School Class of 2024 Student Council \nGuam Bible Fellowship \nGuma Nina’en Acho Latte \nJohn F. Kennedy High School Uprising Dance Team \nMercy Heights Catholic Nursery & Kindergarten Finance Committee \nOkkodo High School Class of 2025 \nOkkodo Paddling \nSan Isididrio Parish \nTaotao Galaide \nTiyan High School Class of 2024 Student Council
URL:https://www.gpoguam.com/event/gift-wrapping-at-gpo/
LOCATION:GPO Shopping Center
CATEGORIES:Outreach Event
END:VEVENT
BEGIN:VEVENT
DTSTART;TZID=Pacific/Guam:20231202T110000
DTEND;TZID=Pacific/Guam:20231202T150000
DTSTAMP:20260421T003901
CREATED:20231130T045634Z
LAST-MODIFIED:20231130T045634Z
UID:15435-1701514800-1701529200@www.gpoguam.com
SUMMARY:Mount Carmel School Job Fair
DESCRIPTION:
URL:https://www.gpoguam.com/event/mount-carmel-school-job-fair/
LOCATION:GPO Food Court
CATEGORIES:Outreach Event
END:VEVENT
BEGIN:VEVENT
DTSTART;TZID=Pacific/Guam:20231201T100000
DTEND;TZID=Pacific/Guam:20231201T170000
DTSTAMP:20260421T003901
CREATED:20231130T044258Z
LAST-MODIFIED:20231130T044258Z
UID:15433-1701424800-1701450000@www.gpoguam.com
SUMMARY:GMH Volunteers Association Raffle Drawing
DESCRIPTION:GMH Volunteers Association Raffle Drawing \nSupport the GMH Volunteers Association ladies Friday\, December 1 for their official raffle drawing. \nRaffle tickets will be sold from 10am – 3pm and the official raffle drawing will begin at 4pm. \nYou may purchase a raffle ticket and attend the raffle drawing in our food court. \n  \n 
URL:https://www.gpoguam.com/event/gmh-volunteers-association-raffle-drawing/
LOCATION:GPO Food Court
CATEGORIES:Giveaway,Outreach Event
END:VEVENT
BEGIN:VEVENT
DTSTART;TZID=Pacific/Guam:20231029T140000
DTEND;TZID=Pacific/Guam:20231029T170000
DTSTAMP:20260421T003901
CREATED:20230929T001727Z
LAST-MODIFIED:20230929T001727Z
UID:15365-1698588000-1698598800@www.gpoguam.com
SUMMARY:Guam Sunshine Lions Club: Caring for the Sick and the Elderly
DESCRIPTION:The Guam Sunshine Lions Club will be fundraising raffle tickets to benefit the club’s mission of “Caring for the Sick and the Elderly”\, \nfor disaster relief\, hunger relief\, vision\, pediatric cancer\, environment\, and other community projects. \nSupport the Guam Sunshine Lions Club by purchasing a ticket at their ticket booth near ITE at our shopping center.
URL:https://www.gpoguam.com/event/guam-sunshine-lions-club-caring-for-the-sick-and-the-elderly-10/
LOCATION:by IT&E
CATEGORIES:Outreach Event
END:VEVENT
BEGIN:VEVENT
DTSTART;TZID=Pacific/Guam:20231028T100000
DTEND;TZID=Pacific/Guam:20231028T140000
DTSTAMP:20260421T003901
CREATED:20230929T004600Z
LAST-MODIFIED:20230929T004600Z
UID:15371-1698487200-1698501600@www.gpoguam.com
SUMMARY:Rocky's Halloween Pet Costume Contest & GAIN Adoption Event
DESCRIPTION:On October 28 Rocky’s and the Guam Animals in Need will be celebrating Halloween for pets at the GPO center Court. \nCome on by and enter the Halloween Pet Costume contest for a chance to win a prize or adopt a fur baby from GAIN. \nFor more information on how to enter contact Rockys at 671-482-7387.
URL:https://www.gpoguam.com/event/rockys-halloween-pet-costume-contest-gain-adoption-event/
LOCATION:GPO Center Court\, Guam
CATEGORIES:Entertainment,Giveaway,Outreach Event
END:VEVENT
BEGIN:VEVENT
DTSTART;TZID=Pacific/Guam:20231028T100000
DTEND;TZID=Pacific/Guam:20231028T140000
DTSTAMP:20260421T003901
CREATED:20230929T003650Z
LAST-MODIFIED:20230929T003650Z
UID:15367-1698487200-1698501600@www.gpoguam.com
SUMMARY:National Take Back Initiative
DESCRIPTION:Donate unused\, unwanted\, expired pharmaceuticals to the Drug Enforcement Administration \nfor the National Take Back Initiative on October 28 from \n10am – 2pm near ITE.
URL:https://www.gpoguam.com/event/national-take-back-initiative/
LOCATION:by IT&E
CATEGORIES:Outreach Event
END:VEVENT
BEGIN:VEVENT
DTSTART;TZID=Pacific/Guam:20231028T100000
DTEND;TZID=Pacific/Guam:20231028T130000
DTSTAMP:20260421T003901
CREATED:20230929T001619Z
LAST-MODIFIED:20230929T001619Z
UID:15363-1698487200-1698498000@www.gpoguam.com
SUMMARY:Guam Sunshine Lions Club: Caring for the Sick and the Elderly
DESCRIPTION:The Guam Sunshine Lions Club will be fundraising raffle tickets to benefit the club’s mission of “Caring for the Sick and the Elderly”\, \nfor disaster relief\, hunger relief\, vision\, pediatric cancer\, environment\, and other community projects. \nSupport the Guam Sunshine Lions Club by purchasing a ticket at their ticket booth near the play area at our shopping center.
URL:https://www.gpoguam.com/event/guam-sunshine-lions-club-caring-for-the-sick-and-the-elderly-9/
LOCATION:by Play Area
CATEGORIES:Outreach Event
END:VEVENT
BEGIN:VEVENT
DTSTART;TZID=Pacific/Guam:20231022T140000
DTEND;TZID=Pacific/Guam:20231022T170000
DTSTAMP:20260421T003901
CREATED:20230929T001458Z
LAST-MODIFIED:20230929T001458Z
UID:15361-1697983200-1697994000@www.gpoguam.com
SUMMARY:Guam Sunshine Lions Club: Caring for the Sick and the Elderly
DESCRIPTION:The Guam Sunshine Lions Club will be fundraising raffle tickets to benefit the club’s mission of “Caring for the Sick and the Elderly”\, \nfor disaster relief\, hunger relief\, vision\, pediatric cancer\, environment\, and other community projects. \nSupport the Guam Sunshine Lions Club by purchasing a ticket at their ticket booth near ITE at our shopping center.
URL:https://www.gpoguam.com/event/guam-sunshine-lions-club-caring-for-the-sick-and-the-elderly-8/
LOCATION:by IT&E
CATEGORIES:Outreach Event
END:VEVENT
BEGIN:VEVENT
DTSTART;TZID=Pacific/Guam:20231021T100000
DTEND;TZID=Pacific/Guam:20231021T173000
DTSTAMP:20260421T003901
CREATED:20230929T004005Z
LAST-MODIFIED:20230929T004005Z
UID:15369-1697882400-1697909400@www.gpoguam.com
SUMMARY:Guam National Olympic Committee Raffle Drawing
DESCRIPTION:The Guam National Olympic Committee will be hosting a raffle drawing on Saturday\, October 21 from 10am – 5:30pm \nin the GPO food court to assist national sports federations raise funds for the various upcoming 2023 games.
URL:https://www.gpoguam.com/event/guam-national-olympic-committee-raffle-drawing/
LOCATION:GPO Food Court
CATEGORIES:Outreach Event
END:VEVENT
BEGIN:VEVENT
DTSTART;TZID=Pacific/Guam:20231021T100000
DTEND;TZID=Pacific/Guam:20231021T130000
DTSTAMP:20260421T003901
CREATED:20230929T001341Z
LAST-MODIFIED:20230929T001341Z
UID:15359-1697882400-1697893200@www.gpoguam.com
SUMMARY:Guam Sunshine Lions Club: Caring for the Sick and the Elderly
DESCRIPTION:The Guam Sunshine Lions Club will be fundraising raffle tickets to benefit the club’s mission of “Caring for the Sick and the Elderly”\, \nfor disaster relief\, hunger relief\, vision\, pediatric cancer\, environment\, and other community projects. \nSupport the Guam Sunshine Lions Club by purchasing a ticket at their ticket booth near ITE at our shopping center.
URL:https://www.gpoguam.com/event/guam-sunshine-lions-club-caring-for-the-sick-and-the-elderly-7/
LOCATION:by IT&E
CATEGORIES:Outreach Event
END:VEVENT
BEGIN:VEVENT
DTSTART;TZID=Pacific/Guam:20231015T140000
DTEND;TZID=Pacific/Guam:20231015T170000
DTSTAMP:20260421T003901
CREATED:20230929T000027Z
LAST-MODIFIED:20230929T000027Z
UID:15357-1697378400-1697389200@www.gpoguam.com
SUMMARY:Guam Sunshine Lions Club: Caring for the Sick and the Elderly
DESCRIPTION:The Guam Sunshine Lions Club will be fundraising raffle tickets to benefit the club’s mission of “Caring for the Sick and the Elderly”\, \nfor disaster relief\, hunger relief\, vision\, pediatric cancer\, environment\, and other community projects. \nSupport the Guam Sunshine Lions Club by purchasing a ticket at their ticket booth near the play area at our shopping center.
URL:https://www.gpoguam.com/event/guam-sunshine-lions-club-caring-for-the-sick-and-the-elderly-6/
LOCATION:by Play Area
CATEGORIES:Outreach Event
END:VEVENT
END:VCALENDAR