BEGIN:VCALENDAR
VERSION:2.0
PRODID:-//GPO Guam - ECPv6.0.12//NONSGML v1.0//EN
CALSCALE:GREGORIAN
METHOD:PUBLISH
X-ORIGINAL-URL:https://www.gpoguam.com
X-WR-CALDESC:Events for GPO Guam
REFRESH-INTERVAL;VALUE=DURATION:PT1H
X-Robots-Tag:noindex
X-PUBLISHED-TTL:PT1H
BEGIN:VTIMEZONE
TZID:Pacific/Guam
BEGIN:STANDARD
TZOFFSETFROM:+1000
TZOFFSETTO:+1000
TZNAME:ChST
DTSTART:20220101T000000
END:STANDARD
END:VTIMEZONE
BEGIN:VEVENT
DTSTART;TZID=Pacific/Guam:20230909T100000
DTEND;TZID=Pacific/Guam:20230909T140000
DTSTAMP:20260421T072345
CREATED:20230908T061641Z
LAST-MODIFIED:20230908T061641Z
UID:15247-1694253600-1694268000@www.gpoguam.com
SUMMARY:Granite Construction Job Fair
DESCRIPTION:Granite Construction will be hosting a job fair at our shopping center at the former Fragrance Outlet space \nnear A.B. Sports on September 9\, 2023 from 10am – 2pm. \n 
URL:https://www.gpoguam.com/event/granite-construction-job-fair/
CATEGORIES:Outreach Event
END:VEVENT
BEGIN:VEVENT
DTSTART;TZID=Pacific/Guam:20230902T100000
DTEND;TZID=Pacific/Guam:20230902T160000
DTSTAMP:20260421T072345
CREATED:20230901T053518Z
LAST-MODIFIED:20230901T053518Z
UID:15238-1693648800-1693670400@www.gpoguam.com
SUMMARY:GUMA TRADE FAIR
DESCRIPTION:
URL:https://www.gpoguam.com/event/guma-trade-fair/
LOCATION:GPO Shopping Center
CATEGORIES:Entertainment,Outreach Event,Pop-Up
END:VEVENT
BEGIN:VEVENT
DTSTART;TZID=Pacific/Guam:20230707T120000
DTEND;TZID=Pacific/Guam:20230707T190000
DTSTAMP:20260421T072345
CREATED:20230707T015951Z
LAST-MODIFIED:20230707T015951Z
UID:15209-1688731200-1688756400@www.gpoguam.com
SUMMARY:The Children's Ark Charity Drive at Tommy Hilfiger
DESCRIPTION:
URL:https://www.gpoguam.com/event/the-childrens-ark-charity-drive-at-tommy-hilfiger/
CATEGORIES:Outreach Event
END:VEVENT
BEGIN:VEVENT
DTSTART;TZID=Pacific/Guam:20230622T100000
DTEND;TZID=Pacific/Guam:20230705T200000
DTSTAMP:20260421T072345
CREATED:20230619T054949Z
LAST-MODIFIED:20230619T054949Z
UID:15202-1687428000-1688587200@www.gpoguam.com
SUMMARY:Department of Public Health & Social Services: Disaster SNAP Benefits
DESCRIPTION:Department of Public Health: Disaster SNAP Benefits \nApply for SNAP benefits at our shopping center from June 22 to July 5 at the space near Bestseller. Residents from Agana Heights\, Hagatna\, Mangilao\, Mongmong-Toto-Maite\, Ordot-Chalan Pago\, Piti\, and Yona are encouraged to apply at the GPO location. Residents in other areas are encouraged to apply at Micronesia Mall or Inalajan Senior Citizen’s Center. For more information please see the flier or contact the Bureau of Economic Security at 671-300-8873.
URL:https://www.gpoguam.com/event/department-of-public-health-social-services-disaster-snap-benefits/
LOCATION:Calvin Klein Accessories\, Tamuning\, Guam
CATEGORIES:Outreach Event
END:VEVENT
BEGIN:VEVENT
DTSTART;TZID=Pacific/Guam:20230527T100000
DTEND;TZID=Pacific/Guam:20230527T180000
DTSTAMP:20260421T072345
CREATED:20230418T005953Z
LAST-MODIFIED:20230418T005953Z
UID:15183-1685181600-1685210400@www.gpoguam.com
SUMMARY:Department of Youth Affairs: Governor's Summer Youth Employment Program
DESCRIPTION:Department of Youth Affairs: Governor’s Summer Youth Employment Program \nDYA will be accepting job applications from youth\, ages 14-17 y/o on May 27\, 2023 from 10am – 6pm near Bestseller. \nThe program is open for youth interested in participating in the Governor’s Summer Youth Employment Program.
URL:https://www.gpoguam.com/event/department-of-youth-affairs-governors-summer-youth-employment-program/
LOCATION:Calvin Klein Accessories\, Tamuning\, Guam
CATEGORIES:Outreach Event
END:VEVENT
BEGIN:VEVENT
DTSTART;TZID=Pacific/Guam:20230520T110000
DTEND;TZID=Pacific/Guam:20230520T140000
DTSTAMP:20260421T072345
CREATED:20230418T010254Z
LAST-MODIFIED:20230418T010254Z
UID:15185-1684580400-1684591200@www.gpoguam.com
SUMMARY:Guam Animals In Need Adoption Event
DESCRIPTION:G.A.I.N.  will be hosting an adoption event on May 20\, 2023 from 11am – 2pm near Bestseller.
URL:https://www.gpoguam.com/event/guam-animals-in-need-adoption-event/
LOCATION:Calvin Klein Accessories\, Tamuning\, Guam
CATEGORIES:Outreach Event
END:VEVENT
BEGIN:VEVENT
DTSTART;TZID=Pacific/Guam:20230520T100000
DTEND;TZID=Pacific/Guam:20230520T140000
DTSTAMP:20260421T072345
CREATED:20230418T005719Z
LAST-MODIFIED:20230418T005719Z
UID:15181-1684576800-1684591200@www.gpoguam.com
SUMMARY:National Safe Boating Week (NSBW)
DESCRIPTION:National Safe Boating Week  \nDate: May 20\, 2023 \nTime: 10am – 2pm \nLocation: GPO Center Court
URL:https://www.gpoguam.com/event/national-safe-boating-week-nsbw/
LOCATION:GPO Center Court\, Guam
CATEGORIES:Outreach Event
END:VEVENT
BEGIN:VEVENT
DTSTART;TZID=Pacific/Guam:20230502T100000
DTEND;TZID=Pacific/Guam:20230502T153000
DTSTAMP:20260421T072345
CREATED:20230418T002554Z
LAST-MODIFIED:20230418T002554Z
UID:15175-1683021600-1683041400@www.gpoguam.com
SUMMARY:DPHSS Mobile Health Clinic
DESCRIPTION:DPHSS Mobile Health Clinic: FREE Covid Vaccinations & Bivalent Boosters \nFREE Covid-19 Vaccinations & Bivalent boosters available on April 11\, 28\, and May 2 from 10am – 3:30pm near Bestseller. \nThe vaccines and boosters are available for 6 months and older. \nMINOR MUST BE ACCOMPANIED BY A PARENT OR LEGAL GUARDIAN. \nPARENT/LEGAL GUARDIAN MUST HAVE A GOVERNMENT-ISSUED PHOTO IDENTIFICATION. \nTHE PARENT/LEGAL GUARDIAN MUST PROVIDE THE MINOR’S BIRTH CERTIFICATE. \nGUARDIANS MUST PRESENT LEGAL GUARDIANSHIP OR POWER-OF-ATTORNEY DOCUMENTS.
URL:https://www.gpoguam.com/event/dphss-mobile-health-clinic-3/
LOCATION:Calvin Klein Accessories\, Tamuning\, Guam
CATEGORIES:Outreach Event
END:VEVENT
BEGIN:VEVENT
DTSTART;TZID=Pacific/Guam:20230423T110000
DTEND;TZID=Pacific/Guam:20230423T140000
DTSTAMP:20260421T072345
CREATED:20230418T004940Z
LAST-MODIFIED:20230418T004940Z
UID:15179-1682247600-1682258400@www.gpoguam.com
SUMMARY:National Crime Victims' Rights Week
DESCRIPTION:National Crime Victims’ Rights Week \nDate: April 23\, 2023 \nTime: 11am – 2pm \nLocation: GPO Food Court
URL:https://www.gpoguam.com/event/national-crime-victims-rights-week/
LOCATION:GPO Food Court
CATEGORIES:Outreach Event
END:VEVENT
BEGIN:VEVENT
DTSTART;TZID=Pacific/Guam:20230422T100000
DTEND;TZID=Pacific/Guam:20230423T180000
DTSTAMP:20260421T072345
CREATED:20230418T004504Z
LAST-MODIFIED:20230418T004504Z
UID:15177-1682157600-1682272800@www.gpoguam.com
SUMMARY:2023 Open/Junior Chess Championship
DESCRIPTION:The Guam Chess Federation will be hosting a Chess Championship \nnear Bestseller from April 22 to April 23 from 10am -6pm.
URL:https://www.gpoguam.com/event/2023-open-junior-chess-championship/
LOCATION:Calvin Klein Accessories\, Tamuning\, Guam
CATEGORIES:Outreach Event
END:VEVENT
BEGIN:VEVENT
DTSTART;TZID=Pacific/Guam:20230422T100000
DTEND;TZID=Pacific/Guam:20230422T140000
DTSTAMP:20260421T072345
CREATED:20230418T001348Z
LAST-MODIFIED:20230418T001348Z
UID:15168-1682157600-1682172000@www.gpoguam.com
SUMMARY:National Take Back Intiative
DESCRIPTION:
URL:https://www.gpoguam.com/event/national-take-back-intiative/
LOCATION:GPO Shopping Center
CATEGORIES:Outreach Event
END:VEVENT
BEGIN:VEVENT
DTSTART;TZID=Pacific/Guam:20230418T100000
DTEND;TZID=Pacific/Guam:20230418T153000
DTSTAMP:20260421T072345
CREATED:20230418T002505Z
LAST-MODIFIED:20230418T002505Z
UID:15173-1681812000-1681831800@www.gpoguam.com
SUMMARY:DPHSS Mobile Health Clinic
DESCRIPTION:DPHSS Mobile Health Clinic: FREE Covid Vaccinations & Bivalent Boosters \nFREE Covid-19 Vaccinations & Bivalent boosters available on April 11\, 28\, and May 2 from 10am – 3:30pm near Bestseller. \nThe vaccines and boosters are available for 6 months and older. \nMINOR MUST BE ACCOMPANIED BY A PARENT OR LEGAL GUARDIAN. \nPARENT/LEGAL GUARDIAN MUST HAVE A GOVERNMENT-ISSUED PHOTO IDENTIFICATION. \nTHE PARENT/LEGAL GUARDIAN MUST PROVIDE THE MINOR’S BIRTH CERTIFICATE. \nGUARDIANS MUST PRESENT LEGAL GUARDIANSHIP OR POWER-OF-ATTORNEY DOCUMENTS.
URL:https://www.gpoguam.com/event/dphss-mobile-health-clinic-2/
LOCATION:Calvin Klein Accessories\, Tamuning\, Guam
CATEGORIES:Outreach Event
END:VEVENT
BEGIN:VEVENT
DTSTART;TZID=Pacific/Guam:20230411T100000
DTEND;TZID=Pacific/Guam:20230411T153000
DTSTAMP:20260421T072345
CREATED:20230418T002407Z
LAST-MODIFIED:20230418T002407Z
UID:15171-1681207200-1681227000@www.gpoguam.com
SUMMARY:DPHSS Mobile Health Clinic
DESCRIPTION:DPHSS Mobile Health Clinic: FREE Covid Vaccinations & Bivalent Boosters \nFREE Covid-19 Vaccinations & Bivalent boosters available on April 11\, 28\, and May 2 from 10am – 3:30pm near Bestseller. \nThe vaccines and boosters are available for 6 months and older. \nMINOR MUST BE ACCOMPANIED BY A PARENT OR LEGAL GUARDIAN. \nPARENT/LEGAL GUARDIAN MUST HAVE A GOVERNMENT-ISSUED PHOTO IDENTIFICATION. \nTHE PARENT/LEGAL GUARDIAN MUST PROVIDE THE MINOR’S BIRTH CERTIFICATE. \nGUARDIANS MUST PRESENT LEGAL GUARDIANSHIP OR POWER-OF-ATTORNEY DOCUMENTS.
URL:https://www.gpoguam.com/event/dphss-mobile-health-clinic/
LOCATION:Calvin Klein Accessories\, Tamuning\, Guam
CATEGORIES:Outreach Event
END:VEVENT
BEGIN:VEVENT
DTSTART;TZID=Pacific/Guam:20230318T100000
DTEND;TZID=Pacific/Guam:20230318T130000
DTSTAMP:20260421T072345
CREATED:20230315T051316Z
LAST-MODIFIED:20230315T051316Z
UID:15145-1679133600-1679144400@www.gpoguam.com
SUMMARY:KUAM CAREFORCE & ST.BALDRICK'S FOUNDATION: Brave the Shave
DESCRIPTION:
URL:https://www.gpoguam.com/event/kuam-careforce-st-baldricks-foundation-brave-the-shave/
LOCATION:GPO Center Court\, Guam
CATEGORIES:Outreach Event
END:VEVENT
BEGIN:VEVENT
DTSTART;TZID=Pacific/Guam:20230215T050000
DTEND;TZID=Pacific/Guam:20230215T090000
DTSTAMP:20260421T072345
CREATED:20230214T223320Z
LAST-MODIFIED:20230214T223320Z
UID:15108-1676437200-1676451600@www.gpoguam.com
SUMMARY:35th Annual 3.5 MI. Rainbows for Children Guam Run Walk for Youth 2023
DESCRIPTION:DETAILS TO BE ANNOUNCED
URL:https://www.gpoguam.com/event/35th-annual-3-5-mi-rainbows-for-children-guam-run-walk-for-youth-2023/
LOCATION:GPO Shopping Center
CATEGORIES:Outreach Event
END:VEVENT
BEGIN:VEVENT
DTSTART;TZID=Pacific/Guam:20221217T100000
DTEND;TZID=Pacific/Guam:20221217T140000
DTSTAMP:20260421T072345
CREATED:20221215T054638Z
LAST-MODIFIED:20221216T032745Z
UID:15045-1671271200-1671285600@www.gpoguam.com
SUMMARY:The Neni Market
DESCRIPTION:💡✨Shop & Support over 25 Local “EntrepreNENIs” at The Neni Market on Saturday\, December 17th\, 2022 from 10 AM to 2 PM at Guam Premier Outlets (Nike Wing) @gpoguam ✨ \nThe Neni Market is a five week entrepreneurship program powered by Inspire Marianas for kids ages 7 – 13\, where aspiring kid entrepreneurs can learn the fundamentals of business and entrepreneurship at a simplified but accelerated pace to help them spark new ideas and fuel their entrepreneurial spirit. \nWe’re so proud of all our EntrepreNENIs and their hard work\, creativity and enthusiasm for innovation. We can’t for everyone to see all the awesome businesses created by our very first group of EntrepreNENIs! \nPlease join us this Saturday! \nEnjoy live entertainment\, drone demonstration\, performances\, raffle prizes and more at The Neni Market! \nSi Yu’os Ma’åse to all our sponsors:\nThe Bank of Guam Center for Entrepreneurship and Innovation\nBank of Guam\nRoyal Bics \nDocomo Pacific\nBank Pacific\nGuam Economic Development Authority\nGuam Visitors Bureau\nGTA\nTwenty One Pixels \nCreative Cap\nInvictus MKTG\nPicasso Neni\nUOG Entrepreneur Society\nCompadres Mall\nBella Wings Aviation\nCalvo’s SelectCare \nStandard Office Supply\nUOG Student Government Association\nPacific Islands Club\nBonita Baby\nArchway Inc.\nBonita Baby\nThe Village Thrift \nSpecial thanks to the legendary Dr.James Ji\, all our amazing mentors\, volunteers and all the parents for their support! \nWe appreciate you ALL! \nWe’ll see you at The Neni Market!
URL:https://www.gpoguam.com/event/the-neni-market/
CATEGORIES:Outreach Event
END:VEVENT
BEGIN:VEVENT
DTSTART;VALUE=DATE:20221029
DTEND;VALUE=DATE:20221030
DTSTAMP:20260421T072345
CREATED:20221025T044625Z
LAST-MODIFIED:20221025T044625Z
UID:14964-1667001600-1667087999@www.gpoguam.com
SUMMARY:GPO 25th Anniversary Cash Giveaway
DESCRIPTION:25th Anniversary Cash Giveaway\nShow up early for savings\, entertainment from Jack Larimer\, the Guam Chamber of Commerce Pop-Up Shop & prize giveaways! \nGuam Chamber of Commerce Pop-Up Shop \n 10am – 2pm in the GPO Shopping Center \nLive Performance from Jack Larimer \n  12pm – 2:00pm in the GPO Food Court \nMini Giveaways \n2:30pm – 3pm in the GPO Theater Plaza \nCash Giveaway Drawing \n3pm – 4pm GPO Theater Plaza \n 
URL:https://www.gpoguam.com/event/gpo-25th-anniversary-cash-giveaway-2/
LOCATION:GPO Shopping Center
CATEGORIES:Entertainment,Giveaway,Outreach Event,Sales
END:VEVENT
BEGIN:VEVENT
DTSTART;TZID=Pacific/Guam:20221028T110000
DTEND;TZID=Pacific/Guam:20221031T180000
DTSTAMP:20260421T072345
CREATED:20221025T040312Z
LAST-MODIFIED:20221025T040312Z
UID:14961-1666954800-1667239200@www.gpoguam.com
SUMMARY:Baldayga Job Fair
DESCRIPTION:
URL:https://www.gpoguam.com/event/baldayga-job-fair/
CATEGORIES:Outreach Event
END:VEVENT
BEGIN:VEVENT
DTSTART;TZID=Pacific/Guam:20221008T110000
DTEND;TZID=Pacific/Guam:20221008T130000
DTSTAMP:20260421T072345
CREATED:20221006T055212Z
LAST-MODIFIED:20221006T055212Z
UID:14939-1665226800-1665234000@www.gpoguam.com
SUMMARY:Governor's Youth Empowerment & Education Assistance Grant Program Exhibition
DESCRIPTION:
URL:https://www.gpoguam.com/event/governors-youth-empowerment-education-assistance-grant-program-exhibition/
LOCATION:GPO Center Court\, Guam
CATEGORIES:Outreach Event
END:VEVENT
BEGIN:VEVENT
DTSTART;TZID=Pacific/Guam:20220917T100000
DTEND;TZID=Pacific/Guam:20220917T130000
DTSTAMP:20260421T072345
CREATED:20220917T011948Z
LAST-MODIFIED:20220917T011948Z
UID:14898-1663408800-1663419600@www.gpoguam.com
SUMMARY:DEPARTMENT OF PUBLIC HEALTH: CHILDHOOD IMMUNIZATION OUTREACH CLINIC
DESCRIPTION:
URL:https://www.gpoguam.com/event/department-of-public-health-childhood-immunization-outreach-clinic/
LOCATION:GPO Center Court\, Guam
CATEGORIES:Outreach Event
END:VEVENT
BEGIN:VEVENT
DTSTART;TZID=Pacific/Guam:20220723T100000
DTEND;TZID=Pacific/Guam:20220723T140000
DTSTAMP:20260421T072345
CREATED:20220722T015332Z
LAST-MODIFIED:20220722T015332Z
UID:14773-1658570400-1658584800@www.gpoguam.com
SUMMARY:GUAHAN ACADEMY CHARTER SCHOOL: OPEN ENROLLMENT
DESCRIPTION:Guahan Academy Charter School: Open Enrollment \nGuahan Academy Charter School will be having an open enrollment showcase at our shopping center from 10am – 2pm on Saturday\, July 23. \nYou can find them by IT&E ready to assist you for the new school year!
URL:https://www.gpoguam.com/event/guahan-academy-charter-school-open-enrollment/
CATEGORIES:Outreach Event
END:VEVENT
END:VCALENDAR