BEGIN:VCALENDAR
VERSION:2.0
PRODID:-//GPO Guam - ECPv6.0.12//NONSGML v1.0//EN
CALSCALE:GREGORIAN
METHOD:PUBLISH
X-ORIGINAL-URL:https://www.gpoguam.com
X-WR-CALDESC:Events for GPO Guam
REFRESH-INTERVAL;VALUE=DURATION:PT1H
X-Robots-Tag:noindex
X-PUBLISHED-TTL:PT1H
BEGIN:VTIMEZONE
TZID:Pacific/Guam
BEGIN:STANDARD
TZOFFSETFROM:+1000
TZOFFSETTO:+1000
TZNAME:ChST
DTSTART:20220101T000000
END:STANDARD
END:VTIMEZONE
BEGIN:VEVENT
DTSTART;VALUE=DATE:20220127
DTEND;VALUE=DATE:20220203
DTSTAMP:20260423T014504
CREATED:20220126T051046Z
LAST-MODIFIED:20220126T051046Z
UID:14272-1643241600-1643846399@www.gpoguam.com
SUMMARY:TOMMY HILFIGER: TOMMY ESSENTIALS
DESCRIPTION:Tommy Hilfiger: Tommy Essentials \n20% OFF your purchase of $100+ OR 15% OFF your entire purchase* \nJanuary 27 – February 2 \nPromo Code: 631712004224 \nAll styles not available at all locations. May not be available at tommy.com. Not valid for purchases through the TH Anywhere program. *OFFER IS VALID 1/27/22 – 2/2/22. All offers are redeemable for an amount up to the discount stated on this posting and must be presented in-person at Tommy Hilfiger stores in the United States\, Puerto Rico\, and Guam. It may be used only once whether or not fully redeemed and must be surrendered at purchase with any remaining value of the Offer forfeited. Not redeemable for store credit or cash. The offers may not be combined with any other promotion and have no cash value. Offers are not valid for previously purchased merchandise\, gift cards\, or Internet transactions. Any discount (as shown on the receipt) applied to merchandise that is returned will be deducted from any refund amount. Customer must present posting at time of purchase to receive the offers. Reproductions of the offers will not be accepted. PVH associates not eligible. Not valid in department stores\, Clearance stores\, Tommy Hilfiger stores in Canada\, or on tommy.com. Promo Code: 631712004224
URL:https://www.gpoguam.com/event/tommy-hilfiger-tommy-essentials/
LOCATION:Tommy Hilfiger
CATEGORIES:Fashion,Sales
END:VEVENT
BEGIN:VEVENT
DTSTART;VALUE=DATE:20220127
DTEND;VALUE=DATE:20220203
DTSTAMP:20260423T014504
CREATED:20220126T051436Z
LAST-MODIFIED:20220126T051517Z
UID:14275-1643241600-1643846399@www.gpoguam.com
SUMMARY:TOMMY HILFIGER KIDS: TOMMY ESSENTIALS
DESCRIPTION:Tommy Hilfiger Kids: Tommy Essentials \n20% OFF your purchase of $100+ OR 15% OFF your entire purchase* \nJanuary 27 – February 2 \nPromo Code: 631712004224 \nAll styles not available at all locations. May not be available at tommy.com. Not valid for purchases through the TH Anywhere program. *OFFER IS VALID 1/27/22 – 2/2/22. All offers are redeemable for an amount up to the discount stated on this posting and must be presented in-person at Tommy Hilfiger stores in the United States\, Puerto Rico\, and Guam. It may be used only once whether or not fully redeemed and must be surrendered at purchase with any remaining value of the Offer forfeited. Not redeemable for store credit or cash. The offers may not be combined with any other promotion and have no cash value. Offers are not valid for previously purchased merchandise\, gift cards\, or Internet transactions. Any discount (as shown on the receipt) applied to merchandise that is returned will be deducted from any refund amount. Customer must present posting at time of purchase to receive the offers. Reproductions of the offers will not be accepted. PVH associates not eligible. Not valid in department stores\, Clearance stores\, Tommy Hilfiger stores in Canada\, or on tommy.com. Promo Code: 631712004224
URL:https://www.gpoguam.com/event/tommy-hilfiger-kids-tommy-essentials/
LOCATION:Tommy Hilfiger Kids\, Guam
CATEGORIES:Fashion,Sales
END:VEVENT
BEGIN:VEVENT
DTSTART;VALUE=DATE:20220203
DTEND;VALUE=DATE:20220210
DTSTAMP:20260423T014504
CREATED:20220202T064342Z
LAST-MODIFIED:20220202T064342Z
UID:14293-1643846400-1644451199@www.gpoguam.com
SUMMARY:TOMMY HILFIGER: SO MUCH TO LOVE
DESCRIPTION:Tommy Hilfiger: So Much to Love \n30% OFF underwear & loungewear when you buy  2+ items* \n20% OFF your purchase of $100+ OR 15% OFF your entire purchase** \nFEBRUARY 3 – 9 \nPromo Code: 631712004354 \n  \nAll styles not available at all locations. May not be available at tommy.com. Not valid for purchases through the TH Anywhere program. *OFFER VALID FROM 2/3/22 – 2/9/22.  With purchase of 2 or more underwear and loungewear items\, customer will get 30% off the ticketed price of such items. **OFFER IS VALID 2/3/22 – 2/9/22. All offers are redeemable for an amount up to the discount stated on this posting and must be presented in-person at Tommy Hilfiger stores in the United States\, Puerto Rico\, and Guam. It may be used only once whether or not fully redeemed and must be surrendered at purchase with any remaining value of the Offer forfeited. Not redeemable for store credit or cash. The offers may not be combined with any other promotion and have no cash value. Offers are not valid for previously purchased merchandise\, gift cards\, or Internet transactions. Any discount (as shown on the receipt) applied to merchandise that is returned will be deducted from any refund amount. Customer must present posting at time of purchase to receive the offers. Reproductions of the offers will not be accepted. PVH associates not eligible. Not valid in department stores\, Clearance stores\, Tommy Hilfiger stores in Canada\, or on tommy.com. Promo Code: 631712004354
URL:https://www.gpoguam.com/event/tommy-hilfiger-so-much-to-love/
LOCATION:Tommy Hilfiger
CATEGORIES:Fashion,Sales
END:VEVENT
BEGIN:VEVENT
DTSTART;VALUE=DATE:20220203
DTEND;VALUE=DATE:20220210
DTSTAMP:20260423T014504
CREATED:20220202T064733Z
LAST-MODIFIED:20220202T064733Z
UID:14296-1643846400-1644451199@www.gpoguam.com
SUMMARY:TOMMY HILFIGER KIDS: SO MUCH TO LOVE
DESCRIPTION:Tommy Hilfiger Kids: So Much to Love \n30% OFF underwear & loungewear when you buy  2+ items* \n20% OFF your purchase of $100+ OR 15% OFF your entire purchase** \nFEBRUARY 3 – 9 \nPromo Code: 631712004354 \n  \nAll styles not available at all locations. May not be available at tommy.com. Not valid for purchases through the TH Anywhere program. *OFFER VALID FROM 2/3/22 – 2/9/22.  With purchase of 2 or more underwear and loungewear items\, customer will get 30% off the ticketed price of such items. **OFFER IS VALID 2/3/22 – 2/9/22. All offers are redeemable for an amount up to the discount stated on this posting and must be presented in-person at Tommy Hilfiger stores in the United States\, Puerto Rico\, and Guam. It may be used only once whether or not fully redeemed and must be surrendered at purchase with any remaining value of the Offer forfeited. Not redeemable for store credit or cash. The offers may not be combined with any other promotion and have no cash value. Offers are not valid for previously purchased merchandise\, gift cards\, or Internet transactions. Any discount (as shown on the receipt) applied to merchandise that is returned will be deducted from any refund amount. Customer must present posting at time of purchase to receive the offers. Reproductions of the offers will not be accepted. PVH associates not eligible. Not valid in department stores\, Clearance stores\, Tommy Hilfiger stores in Canada\, or on tommy.com. Promo Code: 631712004354
URL:https://www.gpoguam.com/event/tommy-hilfiger-kids-so-much-to-love/
CATEGORIES:Fashion,Sales
END:VEVENT
BEGIN:VEVENT
DTSTART;VALUE=DATE:20220217
DTEND;VALUE=DATE:20220225
DTSTAMP:20260423T014504
CREATED:20220217T232709Z
LAST-MODIFIED:20220217T232709Z
UID:14423-1645056000-1645747199@www.gpoguam.com
SUMMARY:TOMMY HILFIGER: PRESIDENT'S DAY SALE
DESCRIPTION:Tommy Hilfiger: President’s Day Sale \nMen’s  & Women’s fleece starting at $39.99 & Men’s & Women’s polos starting at $29.99* \nPlus\, 20% OFF your purchase of $100+ OR 15% OFF your entire purchase** \nFebruary 17 – 24 \nPromo Code: 631712004620 \nAll styles not available at all locations. May not be available at tommy.com. Not valid for purchases through the TH Anywhere program. *Prices valid 2/17/22 – 2/24/22. Select styles. Exclusions apply. See associate for details. **OFFER IS VALID 2/17/22 – 2/24/22. All offers are redeemable for an amount up to the discount stated on this posting and must be presented in-person at Tommy Hilfiger stores in the United States\, Puerto Rico\, and Guam. It may be used only once whether or not fully redeemed and must be surrendered at purchase with any remaining value of the Offer forfeited. Not redeemable for store credit or cash. The offers may not be combined with any other promotion and have no cash value. Offers are not valid for previously purchased merchandise\, gift cards\, or Internet transactions. Any discount (as shown on the receipt) applied to merchandise that is returned will be deducted from any refund amount. Customer must present posting at time of purchase to receive the offers. Reproductions of the offers will not be accepted. PVH associates not eligible. Not valid in department stores\, Clearance stores\, Tommy Hilfiger stores in Canada\, or on tommy.com. Promo Code: 631712004620
URL:https://www.gpoguam.com/event/tommy-hilfiger-presidents-day-sale-2/
LOCATION:Tommy Hilfiger
CATEGORIES:Fashion,Sales
END:VEVENT
BEGIN:VEVENT
DTSTART;VALUE=DATE:20220217
DTEND;VALUE=DATE:20220225
DTSTAMP:20260423T014504
CREATED:20220217T233340Z
LAST-MODIFIED:20220217T233340Z
UID:14425-1645056000-1645747199@www.gpoguam.com
SUMMARY:TOMMY HILFIGER KIDS: PRESIDENT'S DAY SALE
DESCRIPTION:Tommy Hilfiger Kids: President’s Day Sale \nMen’s  & Women’s fleece starting at $39.99 & Men’s & Women’s polos starting at $29.99* \nPlus\, 20% OFF your purchase of $100+ OR 15% OFF your entire purchase** \nFebruary 17 – 24 \nPromo Code: 631712004620 \nAll styles not available at all locations. May not be available at tommy.com. Not valid for purchases through the TH Anywhere program. *Prices valid 2/17/22 – 2/24/22. Select styles. Exclusions apply. See associate for details. **OFFER IS VALID 2/17/22 – 2/24/22. All offers are redeemable for an amount up to the discount stated on this posting and must be presented in-person at Tommy Hilfiger stores in the United States\, Puerto Rico\, and Guam. It may be used only once whether or not fully redeemed and must be surrendered at purchase with any remaining value of the Offer forfeited. Not redeemable for store credit or cash. The offers may not be combined with any other promotion and have no cash value. Offers are not valid for previously purchased merchandise\, gift cards\, or Internet transactions. Any discount (as shown on the receipt) applied to merchandise that is returned will be deducted from any refund amount. Customer must present posting at time of purchase to receive the offers. Reproductions of the offers will not be accepted. PVH associates not eligible. Not valid in department stores\, Clearance stores\, Tommy Hilfiger stores in Canada\, or on tommy.com. Promo Code: 631712004620
URL:https://www.gpoguam.com/event/tommy-hilfiger-kids-presidents-day-sale/
LOCATION:Tommy Hilfiger Kids\, Guam
CATEGORIES:Fashion,Sales
END:VEVENT
END:VCALENDAR