BEGIN:VCALENDAR
VERSION:2.0
PRODID:-//GPO Guam - ECPv6.0.12//NONSGML v1.0//EN
CALSCALE:GREGORIAN
METHOD:PUBLISH
X-WR-CALNAME:GPO Guam
X-ORIGINAL-URL:https://www.gpoguam.com
X-WR-CALDESC:Events for GPO Guam
REFRESH-INTERVAL;VALUE=DURATION:PT1H
X-Robots-Tag:noindex
X-PUBLISHED-TTL:PT1H
BEGIN:VTIMEZONE
TZID:Pacific/Guam
BEGIN:STANDARD
TZOFFSETFROM:+1000
TZOFFSETTO:+1000
TZNAME:ChST
DTSTART:20210101T000000
END:STANDARD
END:VTIMEZONE
BEGIN:VEVENT
DTSTART;VALUE=DATE:20210121
DTEND;VALUE=DATE:20220101
DTSTAMP:20260423T060842
CREATED:20210124T010736Z
LAST-MODIFIED:20210124T010736Z
UID:13360-1611187200-1640995199@www.gpoguam.com
SUMMARY:CALVIN KLEIN: MILITARY DISCOUNT
DESCRIPTION:Visit Calvin Klein today\, and enjoy 20% off your purchase with a valid military ID. \nExclusions apply.
URL:https://www.gpoguam.com/event/calvin-klein-military-discount/
LOCATION:by Calvin Klein
CATEGORIES:Fashion,Sales
END:VEVENT
BEGIN:VEVENT
DTSTART;VALUE=DATE:20211201
DTEND;VALUE=DATE:20220101
DTSTAMP:20260423T060842
CREATED:20211130T234729Z
LAST-MODIFIED:20211130T234729Z
UID:14137-1638316800-1640995199@www.gpoguam.com
SUMMARY:SUBWAY: THE PERFECT GIFT FREE 6" SUB
DESCRIPTION:Subway: The Perfect Gift\n\n\nThe perfect gift is available for you at Subway! Get a FREE 6” sub with every $25 Subway Gift Card purchase from now and through the holidays. \n\n\nIt’s the perfect stocking stuffer for family\, friends\, & employees.\n\n\nHappy Holiday Shopping!
URL:https://www.gpoguam.com/event/subway-the-perfect-gift-free-6-sub/
LOCATION:Subway
CATEGORIES:Food & Beverage,Sales
END:VEVENT
BEGIN:VEVENT
DTSTART;VALUE=DATE:20211201
DTEND;VALUE=DATE:20220101
DTSTAMP:20260423T060842
CREATED:20211130T235749Z
LAST-MODIFIED:20211130T235749Z
UID:14141-1638316800-1640995199@www.gpoguam.com
SUMMARY:WENDY'S: WOW $3 PREMIUM CHICKEN SANDWICH
DESCRIPTION:How does Quality for a great Value sound? Wendy’s Premium Classic or Spicy Chicken Sandwich for only $3!\nGives you more money to spend on Christmas shopping! Head on over today to grab this deal only at  Wendy’s Guam!
URL:https://www.gpoguam.com/event/wendys-wow-3-premium-chicken-sandwich/
LOCATION:Wendy’s
CATEGORIES:Food & Beverage,Sales
END:VEVENT
BEGIN:VEVENT
DTSTART;VALUE=DATE:20211221
DTEND;VALUE=DATE:20211230
DTSTAMP:20260423T060842
CREATED:20211222T011055Z
LAST-MODIFIED:20211222T011055Z
UID:14177-1640044800-1640822399@www.gpoguam.com
SUMMARY:TOMMY HILFIGER KIDS: LET IT SALE\, LET IT SALE\, LET IT SALE
DESCRIPTION:Let It Sale\, Let It Sale\, Let It Sale \nUp to 70% OFF entire store + 50% OFF all outerwear* \nPlus\, 20% OFF your purchase of $100+ OR 15% OFF your entire purchase** \n*VALID UNTIL: DECEMBER 29 \nPromo Code: 631712001476 \n\nAll styles not available at all locations. May not be available at tommy.com. Not valid for purchases through the TH Anywhere program. *While supplies last. Ticketed price. Exclusions apply. Not valid at Tommy Hilfiger Kids Stores. OUTERWEAR PROMO EXCLUDES THE TOMMY YACHT JACKET AND REGATTA JACKET. OFFER IS VALID 12/21/21 – 12/29/21. **OFFER IS VALID 12/21/21 – 12/29/21. All offers are redeemable for an amount up to the discount stated on this posting and must be presented in-person at Tommy Hilfiger stores in the United States\, Puerto Rico\, and Guam. It may be used only once whether or not fully redeemed and must be surrendered at purchase with any remaining value of the Offer forfeited. Not redeemable for store credit or cash. The offers may not be combined with any other promotion and have no cash value. Offers are not valid for previously purchased merchandise\, gift cards\, or Internet transactions. Any discount (as shown on the receipt) applied to merchandise that is returned will be deducted from any refund amount. Customer must present posting at time of purchase to receive the offers. Reproductions of the offers will not be accepted. PVH associates not eligible. Not valid in department stores\, Clearance stores\, Tommy Hilfiger stores in Canada\, or on tommy.com. Promo Code: 631712001476
URL:https://www.gpoguam.com/event/tommy-hilfiger-kids-let-it-sale-let-it-sale-let-it-sale/
LOCATION:Tommy Hilfiger Kids\, Guam
CATEGORIES:Fashion,Sales
END:VEVENT
BEGIN:VEVENT
DTSTART;VALUE=DATE:20211222
DTEND;VALUE=DATE:20211230
DTSTAMP:20260423T060842
CREATED:20211222T010756Z
LAST-MODIFIED:20211222T010756Z
UID:14174-1640131200-1640822399@www.gpoguam.com
SUMMARY:TOMMY HILFIGER: LET IT SALE\, LET IT SALE\, LET IT SALE
DESCRIPTION:Let It Sale\, Let It Sale\, Let It Sale \nUp to 70% OFF entire store + 50% OFF all outerwear* \nPlus\, 20% OFF your purchase of $100+ OR 15% OFF your entire purchase** \n*VALID UNTIL: DECEMBER 29 \nPromo Code: 631712001476 \n\nAll styles not available at all locations. May not be available at tommy.com. Not valid for purchases through the TH Anywhere program. *While supplies last. Ticketed price. Exclusions apply. Not valid at Tommy Hilfiger Kids Stores. OUTERWEAR PROMO EXCLUDES THE TOMMY YACHT JACKET AND REGATTA JACKET. OFFER IS VALID 12/21/21 – 12/29/21. **OFFER IS VALID 12/21/21 – 12/29/21. All offers are redeemable for an amount up to the discount stated on this posting and must be presented in-person at Tommy Hilfiger stores in the United States\, Puerto Rico\, and Guam. It may be used only once whether or not fully redeemed and must be surrendered at purchase with any remaining value of the Offer forfeited. Not redeemable for store credit or cash. The offers may not be combined with any other promotion and have no cash value. Offers are not valid for previously purchased merchandise\, gift cards\, or Internet transactions. Any discount (as shown on the receipt) applied to merchandise that is returned will be deducted from any refund amount. Customer must present posting at time of purchase to receive the offers. Reproductions of the offers will not be accepted. PVH associates not eligible. Not valid in department stores\, Clearance stores\, Tommy Hilfiger stores in Canada\, or on tommy.com. Promo Code: 631712001476
URL:https://www.gpoguam.com/event/tommy-hilfiger-let-it-sale-let-it-sale-let-it-sale/
LOCATION:Tommy Hilfiger
CATEGORIES:Fashion,Sales
END:VEVENT
END:VCALENDAR