BEGIN:VCALENDAR
VERSION:2.0
PRODID:-//GPO Guam - ECPv6.0.12//NONSGML v1.0//EN
CALSCALE:GREGORIAN
METHOD:PUBLISH
X-ORIGINAL-URL:https://www.gpoguam.com
X-WR-CALDESC:Events for GPO Guam
REFRESH-INTERVAL;VALUE=DURATION:PT1H
X-Robots-Tag:noindex
X-PUBLISHED-TTL:PT1H
BEGIN:VTIMEZONE
TZID:Pacific/Guam
BEGIN:STANDARD
TZOFFSETFROM:+1000
TZOFFSETTO:+1000
TZNAME:ChST
DTSTART:20220101T000000
END:STANDARD
END:VTIMEZONE
BEGIN:VEVENT
DTSTART;VALUE=DATE:20220113
DTEND;VALUE=DATE:20220121
DTSTAMP:20260423T044922
CREATED:20220113T033017Z
LAST-MODIFIED:20220113T033017Z
UID:14247-1642032000-1642723199@www.gpoguam.com
SUMMARY:TOMMY HILFIGER: END-OF-SEASON SAVINGS CONTINUE
DESCRIPTION:Tommy Hilfiger: End-of-Season Savings Continue \n70% OFF select outerwear* \nPlus\, 20% OFF your purchase of $100+ OR 15% OFF your entire purchase** \nJANUARY 13 – 20 \nPromo Code: 631712003920 \nAll styles not available at all locations. May not be available at tommy.com. Not valid for purchases through the TH Anywhere program. *Ticketed price. Exclusions apply. OFFER IS VALID 1/13/22 – 1/20/22. **OFFER IS VALID 1/13/22 – 1/20/22. All offers are redeemable for an amount up to the discount stated on this posting and must be presented in-person at Tommy Hilfiger stores in the United States\, Puerto Rico\, and Guam. It may be used only once whether or not fully redeemed and must be surrendered at purchase with any remaining value of the Offer forfeited. Not redeemable for store credit or cash. The offers may not be combined with any other promotion and have no cash value. Offers are not valid for previously purchased merchandise\, gift cards\, or Internet transactions. Any discount (as shown on the receipt) applied to merchandise that is returned will be deducted from any refund amount. Customer must present posting at time of purchase to receive the offers. Reproductions of the offers will not be accepted. PVH associates not eligible. Not valid in department stores\, Clearance stores\, Tommy Hilfiger stores in Canada\, or on tommy.com.
URL:https://www.gpoguam.com/event/tommy-hilfiger-end-of-season-savings-continue-2/
LOCATION:Tommy Hilfiger
CATEGORIES:Fashion,Sales
END:VEVENT
BEGIN:VEVENT
DTSTART;VALUE=DATE:20220113
DTEND;VALUE=DATE:20220121
DTSTAMP:20260423T044922
CREATED:20220113T034335Z
LAST-MODIFIED:20220113T034335Z
UID:14250-1642032000-1642723199@www.gpoguam.com
SUMMARY:TOMMY HILFIGER KIDS: END-OF-SEASON SAVINGS CONTINUE
DESCRIPTION:Tommy Hilfiger Kids: End-of-Season Savings Continue \n70% OFF select outerwear* \nPlus\, 20% OFF your purchase of $100+ OR 15% OFF your entire purchase** \nJANUARY 13 – 20 \nPromo Code: 631712003920 \nAll styles not available at all locations. May not be available at tommy.com. Not valid for purchases through the TH Anywhere program. *Ticketed price. Exclusions apply. OFFER IS VALID 1/13/22 – 1/20/22. **OFFER IS VALID 1/13/22 – 1/20/22. All offers are redeemable for an amount up to the discount stated on this posting and must be presented in-person at Tommy Hilfiger stores in the United States\, Puerto Rico\, and Guam. It may be used only once whether or not fully redeemed and must be surrendered at purchase with any remaining value of the Offer forfeited. Not redeemable for store credit or cash. The offers may not be combined with any other promotion and have no cash value. Offers are not valid for previously purchased merchandise\, gift cards\, or Internet transactions. Any discount (as shown on the receipt) applied to merchandise that is returned will be deducted from any refund amount. Customer must present posting at time of purchase to receive the offers. Reproductions of the offers will not be accepted. PVH associates not eligible. Not valid in department stores\, Clearance stores\, Tommy Hilfiger stores in Canada\, or on tommy.com.
URL:https://www.gpoguam.com/event/tommy-hilfiger-kids-end-of-season-savings-continue-2/
LOCATION:Tommy Hilfiger Kids\, Guam
CATEGORIES:Fashion,Sales
END:VEVENT
BEGIN:VEVENT
DTSTART;VALUE=DATE:20220119
DTEND;VALUE=DATE:20220201
DTSTAMP:20260423T044922
CREATED:20220118T224831Z
LAST-MODIFIED:20220118T224831Z
UID:14259-1642550400-1643673599@www.gpoguam.com
SUMMARY:WENDY'S: FREE ANY-SIZE DRINKS WITH BREAKFAST SANDWICH PURCHASE
DESCRIPTION:America’s day begins with a FREE drink of any size when you purchase a breakfast sandwich at Wendy’s! \nLimited time only. See post for details.
URL:https://www.gpoguam.com/event/wendys-free-any-size-drinks-with-breakfast-sandwich-purchase/
LOCATION:Wendy’s
CATEGORIES:Food & Beverage,Sales
END:VEVENT
END:VCALENDAR