BEGIN:VCALENDAR
VERSION:2.0
PRODID:-//GPO Guam - ECPv6.0.12//NONSGML v1.0//EN
CALSCALE:GREGORIAN
METHOD:PUBLISH
X-WR-CALNAME:GPO Guam
X-ORIGINAL-URL:https://www.gpoguam.com
X-WR-CALDESC:Events for GPO Guam
REFRESH-INTERVAL;VALUE=DURATION:PT1H
X-Robots-Tag:noindex
X-PUBLISHED-TTL:PT1H
BEGIN:VTIMEZONE
TZID:Pacific/Guam
BEGIN:STANDARD
TZOFFSETFROM:+1000
TZOFFSETTO:+1000
TZNAME:ChST
DTSTART:20220101T000000
END:STANDARD
END:VTIMEZONE
BEGIN:VEVENT
DTSTART;VALUE=DATE:20220316
DTEND;VALUE=DATE:20220319
DTSTAMP:20260423T013554
CREATED:20220316T002728Z
LAST-MODIFIED:20220316T002728Z
UID:14453-1647388800-1647647999@www.gpoguam.com
SUMMARY:PORT OF MOCHA: ST.PATRICK'S SPECIAL
DESCRIPTION:Port of Mocha: St. Patrick’s Special\n\n\n\nHappy St. Paddy’s day! Enjoy a buy one get one FREE on Port of Mocha famous St. Paddy’s Irish cream mocha. *\n\n\n**EXCLUSIONS APPLY. VALID FROM: March 16 – 18\, 2022.
URL:https://www.gpoguam.com/event/port-of-mocha-st-patricks-special/
LOCATION:Port of Mocha
CATEGORIES:Food & Beverage,Sales
END:VEVENT
END:VCALENDAR