BEGIN:VCALENDAR
VERSION:2.0
PRODID:-//GPO Guam - ECPv6.0.12//NONSGML v1.0//EN
CALSCALE:GREGORIAN
METHOD:PUBLISH
X-ORIGINAL-URL:https://www.gpoguam.com
X-WR-CALDESC:Events for GPO Guam
REFRESH-INTERVAL;VALUE=DURATION:PT1H
X-Robots-Tag:noindex
X-PUBLISHED-TTL:PT1H
BEGIN:VTIMEZONE
TZID:Pacific/Guam
BEGIN:STANDARD
TZOFFSETFROM:+1000
TZOFFSETTO:+1000
TZNAME:ChST
DTSTART:20190101T000000
END:STANDARD
END:VTIMEZONE
BEGIN:VEVENT
DTSTART;VALUE=DATE:20191203
DTEND;VALUE=DATE:20191209
DTSTAMP:20260421T131208
CREATED:20191127T032710Z
LAST-MODIFIED:20191127T032710Z
UID:12192-1575331200-1575849599@www.gpoguam.com
SUMMARY:Calvin Klein: Customer Appreciation
DESCRIPTION:Weekly Web Promotion \nDecember 3rd – December 8th \, 2019. \nExclusions Apply \n\n Calvin Klein Company Stores \nCustomer Appreciation \nUp to 30% Off Entire Store \n\nCalvin Klein Accessory Stores \nCustomer Appreciation \nUp to 30% Off Entire Store
URL:https://www.gpoguam.com/event/calvin-klein-customer-appreciation/
LOCATION:Calvin Klein
CATEGORIES:Sales
END:VEVENT
BEGIN:VEVENT
DTSTART;TZID=Pacific/Guam:20191129T060000
DTEND;TZID=Pacific/Guam:20191129T210000
DTSTAMP:20260421T131208
CREATED:20191002T041728Z
LAST-MODIFIED:20191002T041728Z
UID:11982-1575007200-1575061200@www.gpoguam.com
SUMMARY:Black Friday Hours
DESCRIPTION:Guam Premier Outlets will be open from 6:00am – 9:00pm \nBlack Friday store specials: 6:00am – 12:00pm \nJoin us in the shopping mall hallway as our host Shanice from Hit Radio 100 gives out prizes!
URL:https://www.gpoguam.com/event/black-friday-hours/
LOCATION:GPO Shopping Center
CATEGORIES:Sales
END:VEVENT
BEGIN:VEVENT
DTSTART;VALUE=DATE:20191129
DTEND;VALUE=DATE:20191201
DTSTAMP:20260421T131208
CREATED:20191126T064842Z
LAST-MODIFIED:20191126T064842Z
UID:12171-1574985600-1575158399@www.gpoguam.com
SUMMARY:Famous Footwear: Black Friday Weekend
DESCRIPTION:Black Friday is here  Save big in store with this barcode. \nDATES: 11/29-11/30 \nBOGO ½ Off: Buy one item\, get a second item of equal or lesser value for half price.  \nExclusions apply. Limit 21 pairs of shoes. See store for more details. Excludes socks\, insoles\, shoe care\, and select brands. \nLINK TO BARCODE: https://www.famousfootwear.com/c/coupons?partnerID=centermktg
URL:https://www.gpoguam.com/event/famous-footwear-black-friday-weekend/
LOCATION:Famous Footwear
CATEGORIES:Sales
END:VEVENT
BEGIN:VEVENT
DTSTART;VALUE=DATE:20191129
DTEND;VALUE=DATE:20191130
DTSTAMP:20260421T131208
CREATED:20191126T234605Z
LAST-MODIFIED:20191126T234605Z
UID:12178-1574985600-1575071999@www.gpoguam.com
SUMMARY:Flip Flop Shops: Black Friday Sale
DESCRIPTION:Up to 50% off on sale items.\nPurchase 3 or more items at regular price and receive 15% off you total purchase.
URL:https://www.gpoguam.com/event/flip-flop-shops-black-friday-sale/
LOCATION:Flip Flop Shops
CATEGORIES:Sales
END:VEVENT
BEGIN:VEVENT
DTSTART;VALUE=DATE:20191128
DTEND;VALUE=DATE:20191130
DTSTAMP:20260421T131208
CREATED:20191113T225209Z
LAST-MODIFIED:20191113T225209Z
UID:12125-1574899200-1575071999@www.gpoguam.com
SUMMARY:Tommy Hilfiger: Black Friday
DESCRIPTION:Black Friday\n50% off Everything* \n\nPresent this offer in-store and receive\n25% off your purchase of $200+ (Thursday – before 12PM Friday)** \nNovember 28 – 29 \n*Ticketed price. Exclusions apply. All styles not available at all locations. Promotion not valid in the following stores in California:\nOutlets at San Clemente\, San Francisco Premium Outlets\, Vacaville Premium Outlets\, Outlets at Tejon\, and Fashion Outlets of Las\nVegas\, Nevada. **THIS OFFER EXPIRES ON 11/29/19 and is redeemable for an amount up to the discount stated on this Offer and\nmust be presented in-person at Tommy Hilfiger stores in the United States\, Puerto Rico\, and Guam. It may be used only once\nwhether or not fully redeemed and must be surrendered at purchase with any remaining value of the Offer forfeited. Not\nredeemable for store credit or cash. The Offer may not be combined with any other promotion and has no cash value. It is not valid\nfor previously purchased merchandise\, gift cards\, or Internet transactions. Any discount (as shown on the receipt) applied to\nmerchandise that is returned will be deducted from any refund amount. Customer must present this posting at time of purchase to\nreceive the Offer. Reproductions of the Offer will not be accepted. PVH associates not eligible. Not valid in department stores\,\nClearance stores\, select Tommy Hilfiger stores in California and Nevada as stated above and Canada\, or on tommy.com. Promo\nCode: 500023408000
URL:https://www.gpoguam.com/event/tommy-hilfiger-black-friday/
LOCATION:Tommy Hilfiger
CATEGORIES:Sales
END:VEVENT
BEGIN:VEVENT
DTSTART;VALUE=DATE:20191125
DTEND;VALUE=DATE:20191227
DTSTAMP:20260421T131208
CREATED:20191121T044108Z
LAST-MODIFIED:20191121T044108Z
UID:12159-1574640000-1577404799@www.gpoguam.com
SUMMARY:Tommy Hilfiger Holiday Hours
DESCRIPTION:Tommy Hilfiger Holiday Hours: \nNov. 25 – 27: (8AM- 11PM)\nNov. 28: (6AM – 9PM)\nNov. 29: (6AM – 11PM)\nNov. 30 – Dec. 1: (8AM – 11PM)\nDec. 24: (10AM- 9PM)\nDec. 25: Closed\nDec. 26: (8AM-10PM) \n*Regular store hours: 10AM – 9PM \n \n 
URL:https://www.gpoguam.com/event/tommy-hilfiger-holiday-hours/
LOCATION:Tommy Hilfiger
CATEGORIES:Sales
END:VEVENT
BEGIN:VEVENT
DTSTART;VALUE=DATE:20191125
DTEND;VALUE=DATE:20191128
DTSTAMP:20260421T131208
CREATED:20191113T224451Z
LAST-MODIFIED:20191113T224451Z
UID:12122-1574640000-1574899199@www.gpoguam.com
SUMMARY:Tommy Hilfiger: Black Friday Week
DESCRIPTION:Black Friday Week\n50% off Everything* \nPlus\, present this offer in-store and receive\n20% off your purchase of $150+ or 15% off your entire purchase (Monday-Wednesday)** \nNovember 25 – 27 \n*Ticketed price. Exclusions apply. All styles not available at all locations. Promotion not valid in the following stores in California:\nOutlets at San Clemente\, San Francisco Premium Outlets\, Vacaville Premium Outlets\, Outlets at Tejon\, and Fashion Outlets of Las\nVegas\, Nevada. **THIS OFFER EXPIRES ON 11/27/19 and is redeemable for an amount up to the discount stated on this Offer and\nmust be presented in-person at Tommy Hilfiger stores in the United States\, Puerto Rico\, and Guam. It may be used only once\nwhether or not fully redeemed and must be surrendered at purchase with any remaining value of the Offer forfeited. Not\nredeemable for store credit or cash. The Offer may not be combined with any other promotion and has no cash value. It is not valid\nfor previously purchased merchandise\, gift cards\, or Internet transactions. Any discount (as shown on the receipt) applied to\nmerchandise that is returned will be deducted from any refund amount. Customer must present this posting at time of purchase to\nreceive the Offer. Reproductions of the Offer will not be accepted. PVH associates not eligible. Not valid in department stores\,\nClearance stores\, select Tommy Hilfiger stores in California and Nevada as stated above and Canada\, or on tommy.com. Promo\nCode: 500023407000
URL:https://www.gpoguam.com/event/tommy-hilfiger-black-friday-week/
LOCATION:Tommy Hilfiger
CATEGORIES:Sales
END:VEVENT
BEGIN:VEVENT
DTSTART;VALUE=DATE:20191123
DTEND;VALUE=DATE:20191229
DTSTAMP:20260421T131208
CREATED:20191126T064227Z
LAST-MODIFIED:20191213T013110Z
UID:12169-1574467200-1577577599@www.gpoguam.com
SUMMARY:Famous Footwear: BOGO 1/2 Off
DESCRIPTION:BOGO ½ Off: Buy one item\, get a second item of equal or lesser value for half price.\nExcludes socks\, insoles\, shoe care\, and select brands. \nPromotion ends on Dec. 28\, 2019.
URL:https://www.gpoguam.com/event/famous-footwear-holiday-sale/
LOCATION:Famous Footwear
CATEGORIES:Sales
END:VEVENT
BEGIN:VEVENT
DTSTART;VALUE=DATE:20191118
DTEND;VALUE=DATE:20191203
DTSTAMP:20260421T131208
CREATED:20191118T224029Z
LAST-MODIFIED:20191121T012558Z
UID:12137-1574035200-1575331199@www.gpoguam.com
SUMMARY:Calvin Klein: Black Friday Sale
DESCRIPTION:Weekly Web Promotion \nNovember 18th– December 2nd \, 2019. \nExclusions Apply \n\nCalvin Klein Company Stores \nBlack Friday Sale \nUp to 50 – 70% Off Entire Store \n\nCalvin Klein Accessory Stores \nBlack Friday Sale \nAccessories Up to 50 – 70% Off
URL:https://www.gpoguam.com/event/calvin-klein-black-friday-sale/
LOCATION:Calvin Klein
CATEGORIES:Sales
END:VEVENT
BEGIN:VEVENT
DTSTART;VALUE=DATE:20191114
DTEND;VALUE=DATE:20191125
DTSTAMP:20260421T131208
CREATED:20191113T224020Z
LAST-MODIFIED:20191113T224020Z
UID:12119-1573689600-1574639999@www.gpoguam.com
SUMMARY:Tommy Hilfiger:  Avoid the Crowds
DESCRIPTION:Avoid the Crowds\n40% off Entire Store* \nPlus\, present this offer in-store and receive\n20% off your purchase of $150+ or 15% off your entire purchase** \nNovember 14 – 24 \n*Ticketed price. Exclusions apply. All styles not available at all locations. Promotion not valid in the following stores in California:\nOutlets at San Clemente\, San Francisco Premium Outlets\, Vacaville Premium Outlets\, Outlets at Tejon\, and Fashion Outlets of Las\nVegas\, Nevada. **THIS OFFER EXPIRES ON 11/24/19 and is redeemable for an amount up to the discount stated on this Offer and\nmust be presented in-person at Tommy Hilfiger stores in the United States\, Puerto Rico\, and Guam. It may be used only once\nwhether or not fully redeemed and must be surrendered at purchase with any remaining value of the Offer forfeited. Not\nredeemable for store credit or cash. The Offer may not be combined with any other promotion and has no cash value. It is not valid\nfor previously purchased merchandise\, gift cards\, or Internet transactions. Any discount (as shown on the receipt) applied to\nmerchandise that is returned will be deducted from any refund amount. Customer must present this posting at time of purchase to\nreceive the Offer. Reproductions of the Offer will not be accepted. PVH associates not eligible. Not valid in department stores\,\nClearance stores\, select Tommy Hilfiger stores in California and Nevada as stated above and Canada\, or on tommy.com. Promo\nCode: 500023406000
URL:https://www.gpoguam.com/event/tommy-hilfiger-avoid-the-crowds/
LOCATION:Tommy Hilfiger
CATEGORIES:Sales
END:VEVENT
BEGIN:VEVENT
DTSTART;VALUE=DATE:20191114
DTEND;VALUE=DATE:20191119
DTSTAMP:20260421T131208
CREATED:20191107T003327Z
LAST-MODIFIED:20191107T003327Z
UID:12060-1573689600-1574121599@www.gpoguam.com
SUMMARY:Famous Footwear: Buy More Save More Event
DESCRIPTION:Raise your hand if you’re ready to save $20 . Choose your savings with $20 off $100+\, $15 off $75+ or $10 off $50 with this barcode at your local Famous Footwear store! \nOffer valid from 11/14 – 11/18. \n https://www.famousfootwear.com/c/coupons?partnerID=centermktg
URL:https://www.gpoguam.com/event/famous-footwear-buy-more-save-more-event/
LOCATION:Famous Footwear
CATEGORIES:Sales
END:VEVENT
BEGIN:VEVENT
DTSTART;VALUE=DATE:20191114
DTEND;VALUE=DATE:20191118
DTSTAMP:20260421T131208
CREATED:20191113T223157Z
LAST-MODIFIED:20191113T223157Z
UID:12116-1573689600-1574035199@www.gpoguam.com
SUMMARY:Calvin Klein: Black Friday Preview
DESCRIPTION:Weekly Web Promotion \nNovember 14th– November 17th\, 2019. \nExclusions Apply \n\nCalvin Klein Company Stores \nBlack Friday Preview \nUp to 50% Off Entire Store \n\n\nCalvin Klein Accessory Stores \nBlack Friday Preview \nAccessories Up to 70% Off
URL:https://www.gpoguam.com/event/calvin-klein-black-friday-preview/
LOCATION:Calvin Klein
CATEGORIES:Sales
END:VEVENT
BEGIN:VEVENT
DTSTART;VALUE=DATE:20191107
DTEND;VALUE=DATE:20191114
DTSTAMP:20260421T131208
CREATED:20191111T035157Z
LAST-MODIFIED:20191111T035157Z
UID:12113-1573084800-1573689599@www.gpoguam.com
SUMMARY:Calvin Klein: The Veterans Day Sale
DESCRIPTION:Weekly Web Promotion \nNovember 7th 2019 – November 13th 2019 \nExclusions Apply \n\nCalvin Klein Company Stores \nThe Veterans Day Sale \nUp to 50% Off Entire Store \n\n\nCalvin Klein Accessory Stores \nThe Veterans Day Sale \nAccessories Up to 70% Off
URL:https://www.gpoguam.com/event/calvin-klein-the-veterans-day-sale/
LOCATION:Calvin Klein
CATEGORIES:Sales
END:VEVENT
BEGIN:VEVENT
DTSTART;VALUE=DATE:20191101
DTEND;VALUE=DATE:20191107
DTSTAMP:20260421T131208
CREATED:20191031T053541Z
LAST-MODIFIED:20191031T053541Z
UID:12050-1572566400-1573084799@www.gpoguam.com
SUMMARY:Calvin Klein: The Pre Holiday Sale
DESCRIPTION:Weekly Web Promotion \nNovember 1st 2019 – November 6th 2019 \nExclusions Apply \n\nCalvin Klein Company Stores \nThe Pre Holiday Sale \nUp to 65% Off Entire Store \n\n\nCalvin Klein Accessory Stores \nThe Pre Holiday Sale \nAccessories Up to 70% Off
URL:https://www.gpoguam.com/event/calvin-klein-the-pre-holiday-sale/
LOCATION:Calvin Klein
CATEGORIES:Sales
END:VEVENT
BEGIN:VEVENT
DTSTART;VALUE=DATE:20191028
DTEND;VALUE=DATE:20191101
DTSTAMP:20260421T131208
CREATED:20191025T044400Z
LAST-MODIFIED:20191030T041342Z
UID:12042-1572220800-1572566399@www.gpoguam.com
SUMMARY:Calvin Klein: The Bundle Up Sale
DESCRIPTION:Weekly Web Promotion \nOctober 28th – October 31st\, 2019 \nExclusions Apply \n\nCalvin Klein Company Stores \nThe Bundle Up Sale \nUp to 70% Off Entire Store \nSweaters and Outerwear Starting At 50% Off \n  \nCalvin Klein Accessory Stores \nThe Bundle Up Sale \nUp to 70% Off Entire Store
URL:https://www.gpoguam.com/event/calvin-klein-the-bundle-up-sale/
LOCATION:Calvin Klein
CATEGORIES:Sales
END:VEVENT
BEGIN:VEVENT
DTSTART;VALUE=DATE:20191024
DTEND;VALUE=DATE:20191107
DTSTAMP:20260421T131208
CREATED:20191010T010342Z
LAST-MODIFIED:20191010T010342Z
UID:12008-1571875200-1573084799@www.gpoguam.com
SUMMARY:Tommy Hilfiger: The Holiday Preview Sale
DESCRIPTION:The Holiday Preview\n30-50% off* \nPlus\, present this offer in-store and receive \n20% off your purchase of $150+ or 15% off your entire purchase** \nOctober 24 – November 6 \n*Ticketed price. Exclusions apply. All styles not available at all locations. Promotion not valid in the following stores in California:\nOutlets at San Clemente\, San Francisco Premium Outlets\, Vacaville Premium Outlets\, Outlets at Tejon\, and Fashion Outlets of Las\nVegas\, Nevada. **THIS OFFER EXPIRES ON 11/6/19 and is redeemable for an amount up to the discount stated on this Offer and\nmust be presented in-person at Tommy Hilfiger stores in the United States\, Puerto Rico\, and Guam. It may be used only once\nwhether or not fully redeemed and must be surrendered at purchase with any remaining value of the Offer forfeited. Not\nredeemable for store credit or cash. The Offer may not be combined with any other promotion and has no cash value. It is not valid\nfor previously purchased merchandise\, gift cards\, or Internet transactions. Any discount (as shown on the receipt) applied to\nmerchandise that is returned will be deducted from any refund amount. Customer must present this posting at time of purchase to\nreceive the Offer. Reproductions of the Offer will not be accepted. PVH associates not eligible. Not valid in department stores\,\nClearance stores\, select Tommy Hilfiger stores in California and Nevada as stated above and Canada\, or on tommy.com. Promo\nCode: 500023403000
URL:https://www.gpoguam.com/event/tommy-hilfiger-the-holiday-preview-sale/
LOCATION:Tommy Hilfiger
CATEGORIES:Sales
END:VEVENT
BEGIN:VEVENT
DTSTART;VALUE=DATE:20191022
DTEND;VALUE=DATE:20191028
DTSTAMP:20260421T131208
CREATED:20191021T230509Z
LAST-MODIFIED:20191021T230509Z
UID:12021-1571702400-1572220799@www.gpoguam.com
SUMMARY:Calvin Klein: The Fall Savings Event
DESCRIPTION:Weekly Web Promotion \nOctober 22nd  – October 27th\, 2019. \nExclusions Apply \n\nCalvin Klein Company Stores \nThe Fall Savings Event \nUp to 50% Off Entire Store \n  \n\nCalvin Klein Accessory Stores \nThe Fall Savings Event \nAccessories Up to 70% Off
URL:https://www.gpoguam.com/event/calvin-klein-the-fall-savings-event/
CATEGORIES:Sales
END:VEVENT
BEGIN:VEVENT
DTSTART;VALUE=DATE:20191017
DTEND;VALUE=DATE:20191022
DTSTAMP:20260421T131208
CREATED:20191015T231448Z
LAST-MODIFIED:20191018T034529Z
UID:12013-1571270400-1571702399@www.gpoguam.com
SUMMARY:Calvin Klein: The Customer Appreciation Event
DESCRIPTION:Weekly Web Promotion \nOctober 17th – October 21st\, 2019. \nCalvin Klein Company Stores \nThe Customer Appreciation Event \n5 Days Only. Shop In-Store & Enjoy Exclusive Savings\, Complimentary Fittings for Bras and Suits + Free Domestic Shipping \nPlus\, become a Preferred Member and Take an Extra 15% Off Your Purchase \nValid: 10.17.19 – 10.21.19 \nShop Apparel Stores During Special In-Store Event Hours and Enjoy:  \nFree T-Shirt With $50+ Purchase + Free Parking with Any Purchase \n Special In-Store Event Hours: \nSaturday\, October 19th at 8 AM to 10 AM \nSunday\, October 20th at 6 PM to 8 PM \n\n\nCalvin Klein Accessory Stores \nThe Customer Appreciation Event \n5 Days Only. Shop In-Store and Enjoy Exclusive Savings + Free Domestic Shipping \nPlus\, become a Preferred Member and Take an Extra 15% Off Your Purchase
URL:https://www.gpoguam.com/event/calvin-klein-the-customer-appreciation-event/
LOCATION:Calvin Klein
CATEGORIES:Sales
END:VEVENT
BEGIN:VEVENT
DTSTART;VALUE=DATE:20191010
DTEND;VALUE=DATE:20191017
DTSTAMP:20260421T131208
CREATED:20191009T224954Z
LAST-MODIFIED:20191009T224954Z
UID:12002-1570665600-1571270399@www.gpoguam.com
SUMMARY:Calvin Klein: The Holiday Sale
DESCRIPTION:Weekly Web Promotion \nOctober 10th – October 16th\, 2019. \nExclusions Apply \n  \nCalvin Klein Company Stores \nThe Holiday Sale \nUp to 50% Off Entire Store \n  \n\nCalvin Klein Accessory Stores \nThe Holiday Sale \nAccessories Up to 70% Off
URL:https://www.gpoguam.com/event/calvin-klein-the-holiday-sale/
LOCATION:Calvin Klein
CATEGORIES:Sales
END:VEVENT
BEGIN:VEVENT
DTSTART;VALUE=DATE:20191004
DTEND;VALUE=DATE:20191011
DTSTAMP:20260421T131208
CREATED:20191001T224605Z
LAST-MODIFIED:20191001T224605Z
UID:11974-1570147200-1570751999@www.gpoguam.com
SUMMARY:Calvin Klein: Sweater Weather Sale
DESCRIPTION:Weekly Web Promotion \nOctober 4th – October 10th\, 2019.\nExclusions Apply \nCalvin Klein Company Stores \nSweater Weather Sale \nUp to 60% Off Entire Store \n  \n\nCalvin Klein Accessory Stores \nSweater Weather Sale \nAccessories Up to 70% Off
URL:https://www.gpoguam.com/event/calvin-klein-sweater-weather-sale/
LOCATION:Calvin Klein
CATEGORIES:Sales
END:VEVENT
BEGIN:VEVENT
DTSTART;VALUE=DATE:20190923
DTEND;VALUE=DATE:20191004
DTSTAMP:20260421T131208
CREATED:20190920T013012Z
LAST-MODIFIED:20190920T013012Z
UID:11968-1569196800-1570147199@www.gpoguam.com
SUMMARY:Calvin Klein Sale
DESCRIPTION:Weekly Web Promotion\n9.23.2019 – 10.3.2019\n \n\nCalvin Klein Outlet Stores \nLayer It On \nUp to 50% Off Entire Store \n  \n\nCalvin Klein Accessory Stores \nLayer It On \nAccessories Up to 60% Off \n*Exclusions Apply
URL:https://www.gpoguam.com/event/calvin-klein-sale-33/
LOCATION:Calvin Klein
CATEGORIES:Sales
END:VEVENT
BEGIN:VEVENT
DTSTART;VALUE=DATE:20190923
DTEND;VALUE=DATE:20191003
DTSTAMP:20260421T131208
CREATED:20190819T233647Z
LAST-MODIFIED:20190819T233647Z
UID:11904-1569196800-1570060799@www.gpoguam.com
SUMMARY:Tommy Hilfiger Denim Stock Up Event
DESCRIPTION:Denim Stock Up Event\nAll Jeans\, Buy One Get One 50% Off*\nPlus\, present this offer in-store and receive \n20% off your purchase of $150 or more or 15% off your entire purchase** \nSeptember 23-October 2 \n*Higher price prevails. One at ticketed price. Exclusions may apply. See associate for full details. All styles not available at all\nlocations. Promotion not valid in the following stores in California: Outlets at San Clemente\, San Francisco Premium Outlets\,\nVacaville Premium Outlets\, Outlets at Tejon\, and Fashion Outlets of Las Vegas\, Nevada. **THIS OFFER EXPIRES ON 10/02/19 and is\nredeemable for an amount up to the discount stated on this Offer and must be presented in-person at Tommy Hilfiger stores in the\nUnited States\, Puerto Rico\, and Guam. It may be used only once whether or not fully redeemed and must be surrendered at\npurchase with any remaining value of the Offer forfeited. Not redeemable for store credit or cash. The Offer may not be combined\nwith any other promotion and has no cash value. It is not valid for previously purchased merchandise\, gift cards\, or Internet\ntransactions. Any discount (as shown on the receipt) applied to merchandise that is returned will be deducted from any refund\namount. Customer must present this posting at time of purchase to receive the Offer. Reproductions of the Offer will not be\naccepted. PVH associates not eligible. Not valid in department stores\, Clearance stores\, select Tommy Hilfiger stores in California and\nNevada as stated above and Canada\, or on tommy.com. Promo Code: 500022053000
URL:https://www.gpoguam.com/event/tommy-hilfiger-denim-stock-up-event/
LOCATION:Tommy Hilfiger
CATEGORIES:Sales
END:VEVENT
BEGIN:VEVENT
DTSTART;VALUE=DATE:20190912
DTEND;VALUE=DATE:20190923
DTSTAMP:20260421T131208
CREATED:20190911T032402Z
LAST-MODIFIED:20190911T032402Z
UID:11961-1568246400-1569196799@www.gpoguam.com
SUMMARY:Calvin Klein: The Fall Wardrobe Event
DESCRIPTION:Weekly Web Promotion \nSeptember 12th – September 22nd\, 2019\n*Exclusions Apply\n \nCalvin Klein Outlet Stores \nThe Fall Wardrobe Event \nEnjoy Up to 50% Off Entire Store \n  \n\nCalvin Klein Accessory Stores \nThe Fall Wardrobe Event \nAccessories Up to 60% Off Entire Store
URL:https://www.gpoguam.com/event/calvin-klein-the-fall-wardrobe-event/
LOCATION:Calvin Klein
CATEGORIES:Sales
END:VEVENT
BEGIN:VEVENT
DTSTART;VALUE=DATE:20190906
DTEND;VALUE=DATE:20190923
DTSTAMP:20260421T131208
CREATED:20190910T005424Z
LAST-MODIFIED:20190910T005424Z
UID:11957-1567728000-1569196799@www.gpoguam.com
SUMMARY:Tommy Hilfiger: Chuseok
DESCRIPTION:Valid 9/6 – 9/22 \n15% off 5+ items or 10% off 3+ items
URL:https://www.gpoguam.com/event/tommy-hilfiger-chuseok/
LOCATION:Tommy Hilfiger
CATEGORIES:Sales
END:VEVENT
BEGIN:VEVENT
DTSTART;VALUE=DATE:20190906
DTEND;VALUE=DATE:20190923
DTSTAMP:20260421T131208
CREATED:20190819T232340Z
LAST-MODIFIED:20190819T232340Z
UID:11902-1567728000-1569196799@www.gpoguam.com
SUMMARY:Tommy Hilfiger Annual Fall Sale
DESCRIPTION:Annual Fall Sale\nUp to 50% off entire store*\nPlus\, present this offer in-store and receive \n15% off your purchase of 5+ items or 10% off your purchase of 3+ items** \nSeptember 6-22 \n*Ticketed price. Exclusions apply. All styles not available at all locations. Promotion not valid in the following stores in California:\nOutlets at San Clemente\, San Francisco Premium Outlets\, Vacaville Premium Outlets\, Outlets at Tejon\, and Fashion Outlets of Las\nVegas\, Nevada. THIS OFFER EXPIRES ON 9/22/19 and is redeemable for an amount up to the discount stated on this Offer and must\nbe presented in-person at Tommy Hilfiger stores in the United States\, Puerto Rico\, and Guam. It may be used only once whether or\nnot fully redeemed and must be surrendered at purchase with any remaining value of the Offer forfeited. Not redeemable for store\ncredit or cash. The Offer may not be combined with any other promotion and has no cash value. It is not valid for previously\npurchased merchandise\, gift cards\, or Internet transactions. Any discount (as shown on the receipt) applied to merchandise that is\nreturned will be deducted from any refund amount. Customer must present this posting at time of purchase to receive the Offer.\nReproductions of the Offer will not be accepted. PVH associates not eligible. Not valid in department stores\, Clearance stores\, select\nTommy Hilfiger stores in California and Nevada as stated above and Canada\, or on tommy.com. Promo Code: 500022054000
URL:https://www.gpoguam.com/event/tommy-hilfiger-annual-fall-sale-2/
LOCATION:Tommy Hilfiger
CATEGORIES:Sales
END:VEVENT
BEGIN:VEVENT
DTSTART;VALUE=DATE:20190904
DTEND;VALUE=DATE:20191019
DTSTAMP:20260421T131208
CREATED:20190905T002455Z
LAST-MODIFIED:20190905T002455Z
UID:11935-1567555200-1571443199@www.gpoguam.com
SUMMARY:All Souls Day Headstones: Pre-order at Tech Savvy
DESCRIPTION:  \n \nAll Souls Day Special \nTech Savvy is taking pre-orders before Friday\, October 18.\nPlease submit a clear photograph to netcopy01@gmail.com \nOrders will be ready for pick-up at the Tech Savvy kiosk before All Souls Day (Saturday\, Nov. 2)\n\n[FOR YOUR BELOVED ONE] – PERFECT CEMETERY DECORATIONS. PERFECT MEMORY FOR YOU TO CHERISH EVERY TIME YOU VISIT YOUR LOVED ONE’S GRAVE. SHOW YOUR LOVE WITH THIS UNIQUE HEARTFELT AND ONE OF A KIND GIFT.\n \n[PERMANENT] – THIS MEMORIAL CERAMIC IS NOT JUST A REGULAR PRINTED PHOTO. IT  IS MADE OUT OF ITALIAN IMPORT QUALITY PORCELAIN\, KILN-FIRED AT 1600 F FOR MORE THAN 15 HOURS\, WILL LAST FOREVER IN ANY WEATHER CONDITIONS\, SUCH AS HEAT\, RAIN\, HAIL AND SNOW ETC. IT IS SCRATCH PROOF; WATERPROOF; UV RESISTANT; THE TILE PHOTO IS VERY DURABLE AND CAN BE USED OUTDOOR AND INDOOR.\n \n[EASY TO INSTALL] – 3M VHB INDUSTRIAL DOUBLE-SIDED MOUNTING TAPE INCLUDED FOR PERMANENT INSTALLATION IN JUST MINUTES. THE ADHESIVE IS WATERPROOF AND CAN WITHSTAND BOTH VERY COLD AND VERY HOT TEMPERATURES. \n[SATISFACTION GUARANTEE] – 100% SATISFACTION GUARANTEED. WE GUARANTEE YOU ARE GOING TO ABSOLUTELY LOVE. IF YOU ARE NOT 100% SATISFIED\, YOU CAN RETURN FOR A FULL REFUND.
URL:https://www.gpoguam.com/event/all-souls-day-headstones-pre-order-at-tech-savvy/
LOCATION:Tech Savvy
CATEGORIES:Sales
END:VEVENT
BEGIN:VEVENT
DTSTART;VALUE=DATE:20190904
DTEND;VALUE=DATE:20191001
DTSTAMP:20260421T131208
CREATED:20190903T231745Z
LAST-MODIFIED:20190903T231745Z
UID:11923-1567555200-1569887999@www.gpoguam.com
SUMMARY:Vitamin World Sales
DESCRIPTION:Health is in session. Here are this month’s Vitamin World sales: \n \n 
URL:https://www.gpoguam.com/event/vitamin-world-sales-2/
LOCATION:Vitamin World
CATEGORIES:Sales
END:VEVENT
BEGIN:VEVENT
DTSTART;VALUE=DATE:20190903
DTEND;VALUE=DATE:20190912
DTSTAMP:20260421T131208
CREATED:20190903T224315Z
LAST-MODIFIED:20190903T224315Z
UID:11920-1567468800-1568246399@www.gpoguam.com
SUMMARY:Calvin Klein Sale
DESCRIPTION:Weekly Web Promotion \nSeptember 3rd – September 11th\, 2019\nExclusions Apply \nCalvin Klein Outlet Stores \nShop New Fall Arrivals \nEnjoy 40% Off Entire Store \n\nCalvin Klein Accessory Stores \nShop New Fall Arrivals \nAccessories Up to 60% Off
URL:https://www.gpoguam.com/event/calvin-klein-sale-32/
LOCATION:Calvin Klein
CATEGORIES:Sales
END:VEVENT
BEGIN:VEVENT
DTSTART;VALUE=DATE:20190831
DTEND;VALUE=DATE:20190903
DTSTAMP:20260421T131208
CREATED:20190827T230557Z
LAST-MODIFIED:20190827T230557Z
UID:11917-1567209600-1567468799@www.gpoguam.com
SUMMARY:Labor Day Sidewalk Sale
DESCRIPTION:Happy Labor Day! \nDon’t miss discounts on your summer favorites and new fall trends from our stores\, all weekend long!
URL:https://www.gpoguam.com/event/labor-day-sidewalk-sale/
CATEGORIES:Sales
END:VEVENT
BEGIN:VEVENT
DTSTART;VALUE=DATE:20190829
DTEND;VALUE=DATE:20190909
DTSTAMP:20260421T131208
CREATED:20190826T033410Z
LAST-MODIFIED:20190826T033410Z
UID:11907-1567036800-1567987199@www.gpoguam.com
SUMMARY:Famous Footwear: Labor Day Offer
DESCRIPTION:Stack and save with BOGO 1/2 off plus $15 off your $75+ purchase at Famous Footwear through 9/8/19. \nhttps://www.famousfootwear.com/c/coupons?partnerID=centermktg
URL:https://www.gpoguam.com/event/famous-footwear-labor-day-offer/
LOCATION:Famous Footwear
CATEGORIES:Sales
END:VEVENT
END:VCALENDAR