BEGIN:VCALENDAR
VERSION:2.0
PRODID:-//GPO Guam - ECPv6.0.12//NONSGML v1.0//EN
CALSCALE:GREGORIAN
METHOD:PUBLISH
X-WR-CALNAME:GPO Guam
X-ORIGINAL-URL:https://www.gpoguam.com
X-WR-CALDESC:Events for GPO Guam
REFRESH-INTERVAL;VALUE=DURATION:PT1H
X-Robots-Tag:noindex
X-PUBLISHED-TTL:PT1H
BEGIN:VTIMEZONE
TZID:Pacific/Guam
BEGIN:STANDARD
TZOFFSETFROM:+1000
TZOFFSETTO:+1000
TZNAME:ChST
DTSTART:20180101T000000
END:STANDARD
TZID:Australia/Melbourne
BEGIN:STANDARD
TZOFFSETFROM:+1100
TZOFFSETTO:+1000
TZNAME:AEST
DTSTART:20180331T160000
END:STANDARD
BEGIN:DAYLIGHT
TZOFFSETFROM:+1000
TZOFFSETTO:+1100
TZNAME:AEDT
DTSTART:20181006T160000
END:DAYLIGHT
TZID:UTC
BEGIN:STANDARD
TZOFFSETFROM:+0000
TZOFFSETTO:+0000
TZNAME:UTC
DTSTART:20150101T000000
END:STANDARD
END:VTIMEZONE
BEGIN:VEVENT
DTSTART;VALUE=DATE:20190110
DTEND;VALUE=DATE:20190128
DTSTAMP:20260422T072727
CREATED:20181101T014137Z
LAST-MODIFIED:20181101T014137Z
UID:10875-1547078400-1548633599@www.gpoguam.com
SUMMARY:Tommy Hilfiger New Styles\, New Savings
DESCRIPTION:New Styles\, New Savings \n40% off select styles*  \nPlus\, present this offer in-store and receive \n$20 off your purchase of every $100** \nJanuary 10 – January 27 \n*Original store price. Valid on select items. All styles not available at all locations. May not be available on tommy.com. **Maximum discount of $80. THIS OFFER EXPIRES ON 1/27/19 and is redeemable for an amount up to the discount stated on this Offer and must be presented in-person at Tommy Hilfiger stores in the United States\, Puerto Rico\, and Guam. It may be used only once whether or not fully redeemed and must be surrendered at purchase with any remaining value of the Offer forfeited. Not redeemable for store credit or cash. The Offer may not be combined with any other promotion and has no cash value. It is not valid for previously purchased merchandise\, gift cards\, or Internet transactions. Any discount (as shown on the receipt) applied to merchandise that is returned will be deducted from any refund amount. Customer must present card at time of purchase to receive the Offer. Reproductions of the Offer will not be accepted. PVH associates not eligible. Not valid in department stores\, Clearance stores\, South Beach – FL\, 5th Ave. – NY\, Tommy Hilfiger stores in Canada\, or on tommy.com. Promo Code: 500019926000
URL:https://www.gpoguam.com/event/tommy-hilfiger-new-styles-new-savings/
LOCATION:Tommy Hilfiger
CATEGORIES:Sales
END:VEVENT
BEGIN:VEVENT
DTSTART;VALUE=DATE:20181226
DTEND;VALUE=DATE:20190110
DTSTAMP:20260422T072727
CREATED:20181101T014027Z
LAST-MODIFIED:20181101T014027Z
UID:10873-1545782400-1547078399@www.gpoguam.com
SUMMARY:Tommy Hilfiger End of Season Sale
DESCRIPTION:End of Season Sale \nUp to 70% Entire Store* \nPlus\, present this offer in-store and receive \n20% off your purchase of $150+ or 15% off your entire purchase** \nDecember 26 – January 9 \n*Original store price. Valid on select items. All styles not available at all locations. May not be available on tommy.com. **THIS OFFER EXPIRES ON 1/9/19 and is redeemable for an amount up to the discount stated on this Offer and must be presented in-person at Tommy Hilfiger stores in the United States\, Puerto Rico\, and Guam. It may be used only once whether or not fully redeemed and must be surrendered at purchase with any remaining value of the Offer forfeited. Not redeemable for store credit or cash. The Offer may not be combined with any other promotion and has no cash value. It is not valid for previously purchased merchandise\, gift cards\, or Internet transactions. Any discount (as shown on the receipt) applied to merchandise that is returned will be deducted from any refund amount. Customer must present card at time of purchase to receive the Offer. Reproductions of the Offer will not be accepted. PVH associates not eligible Not valid in department stores\, Clearance stores\, South Beach – FL\, 5th Ave. – NY\, Tommy Hilfiger stores in Canada\, or on tommy.com. Promo Code: 500019925000
URL:https://www.gpoguam.com/event/tommy-hilfiger-end-of-season-sale/
LOCATION:Tommy Hilfiger
CATEGORIES:Sales
END:VEVENT
BEGIN:VEVENT
DTSTART;VALUE=DATE:20181219
DTEND;VALUE=DATE:20181227
DTSTAMP:20260422T072727
CREATED:20181220T012800Z
LAST-MODIFIED:20181220T012800Z
UID:10998-1545177600-1545868799@www.gpoguam.com
SUMMARY:Calvin Klein Sale
DESCRIPTION:Calvin Klein Outlet & Accessory Store\n12.19.18 – 12.26.18 \nCalvin Klein Outlet \n12.19.18 – 12.26.18 \nEntire store up to 70% off \n*Some Exclusions Apply \nCalvin Klein Accessory Store \n12.19.18 – 12.26.18 \nEntire Store up to 60% off \n*Exclusions Apply
URL:https://www.gpoguam.com/event/calvin-klein-sale-5/
LOCATION:Calvin Klein
CATEGORIES:Sales
END:VEVENT
BEGIN:VEVENT
DTSTART;VALUE=DATE:20181213
DTEND;VALUE=DATE:20181225
DTSTAMP:20260422T072727
CREATED:20181101T013925Z
LAST-MODIFIED:20181101T014922Z
UID:10871-1544659200-1545695999@www.gpoguam.com
SUMMARY:Tommy Hilfiger Last Chance Sale
DESCRIPTION:Last Chance Sale \nEntire Store on Sale Up to 60% off* \nPlus\, present this offer in-store and receive \n20% off your purchase of $150+ or 15% off your entire purchase** \nDecember 13 – December 24 \n*Original store price. Valid on select items. All styles not available at all locations. May not be available on tommy.com. **THIS OFFER EXPIRES ON 12/24/18 and is redeemable for an amount up to the discount stated on this Offer and must be presented in-person at Tommy Hilfiger stores in the United States\, Puerto Rico\, and Guam. It may be used only once whether or not fully redeemed and must be surrendered at purchase with any remaining value of the Offer forfeited. Not redeemable for store credit or cash. The Offer may not be combined with any other promotion and has no cash value. It is not valid for previously purchased merchandise\, gift cards\, or Internet transactions. Any discount (as shown on the receipt) applied to merchandise that is returned will be deducted from any refund amount. Customer must present card at time of purchase to receive the Offer. Reproductions of the Offer will not be accepted. PVH associates not eligible. Not valid in department stores\, Clearance stores\, South Beach – FL\, 5th Ave. – NY\, Tommy Hilfiger stores in Canada\, or on tommy.com. Promo Code: 500019924000
URL:https://www.gpoguam.com/event/tommy-hilfiger-last-chance-sale/
LOCATION:Tommy Hilfiger
CATEGORIES:Sales
END:VEVENT
BEGIN:VEVENT
DTSTART;VALUE=DATE:20181213
DTEND;VALUE=DATE:20181219
DTSTAMP:20260422T072727
CREATED:20181213T032739Z
LAST-MODIFIED:20181213T032739Z
UID:10995-1544659200-1545177599@www.gpoguam.com
SUMMARY:Calvin Klein Sale
DESCRIPTION:Calvin Klein Outlet & Calvin Klein Accessory Stores\n12.13.18 – 12.18.18 \nCalvin Klein Outlet \nEntire store up to 70% off \n*Some Exclusions Apply \nCalvin Klein Accessory Stores \n12.13.18 – 12.18.18 \nEntire Store up to 60% off \n*Exclusions Apply
URL:https://www.gpoguam.com/event/calvin-klein-sale-4/
LOCATION:Calvin Klein
CATEGORIES:Sales
END:VEVENT
BEGIN:VEVENT
DTSTART;VALUE=DATE:20181207
DTEND;VALUE=DATE:20181217
DTSTAMP:20260422T072727
CREATED:20181101T013813Z
LAST-MODIFIED:20181101T013813Z
UID:10869-1544140800-1545004799@www.gpoguam.com
SUMMARY:Tommy Hilfiger 10 Days Of Giving
DESCRIPTION:10 Days of Giving \nUp to 60% off Entire Store* \nPlus\, present this offer in-store and receive \n20% off your purchase of $150+ or 15% off your entire purchase every time you shop** \nDecember 7 – December 16 \n*Original store price. Valid on select items. All styles not available at all locations. May not be available on tommy.com. **THIS OFFER EXPIRES ON 12/16/18 and is redeemable for an amount up to the discount stated on this Offer and must be presented in-person at Tommy Hilfiger stores in the United States\, Puerto Rico\, and Guam. It may be used only once whether or not fully redeemed and must be surrendered at purchase with any remaining value of the Offer forfeited. Not redeemable for store credit or cash. The Offer may not be combined with any other promotion and has no cash value. It is not valid for previously purchased merchandise\, gift cards\, or Internet transactions. Any discount (as shown on the receipt) applied to merchandise that is returned will be deducted from any refund amount. Customer must present card at time of purchase to receive the Offer. Reproductions of the Offer will not be accepted. PVH associates not eligible. Not valid in department stores\, Clearance stores\, South Beach – FL\, 5th Ave. – NY\, Tommy Hilfiger stores in Canada\, or on tommy.com. Promo Code: 500019923000
URL:https://www.gpoguam.com/event/tommy-hilfiger-10-days-of-giving/
LOCATION:Tommy Hilfiger
CATEGORIES:Sales
END:VEVENT
BEGIN:VEVENT
DTSTART;VALUE=DATE:20181206
DTEND;VALUE=DATE:20181211
DTSTAMP:20260422T072727
CREATED:20181206T070347Z
LAST-MODIFIED:20181206T070347Z
UID:10924-1544054400-1544486399@www.gpoguam.com
SUMMARY:Famous Footwear Friends & Family Event
DESCRIPTION:Holiday savings start here!  \nTake 25% off your entire in-store purchase during our Friends & Family Event with this barcode through 12/10.
URL:https://www.gpoguam.com/event/famous-footwear-friends-family-event/
LOCATION:Famous Footwear
CATEGORIES:Sales
END:VEVENT
BEGIN:VEVENT
DTSTART;VALUE=DATE:20181129
DTEND;VALUE=DATE:20181206
DTSTAMP:20260422T072727
CREATED:20181203T004330Z
LAST-MODIFIED:20181203T004330Z
UID:10916-1543449600-1544054399@www.gpoguam.com
SUMMARY:Calvin Klein Sale
DESCRIPTION:Calvin Klein Outlet & Calvin Klein Accessory Stores \n11.29.18 – 12.5.18 \nCalvin Klein Outlet \nEntire store up to 70% off \nCalvin Klein Accessory Stores \nEntire Store up to 60% off \n*Exclusions Apply
URL:https://www.gpoguam.com/event/calvin-klein-sale-3/
LOCATION:Calvin Klein
CATEGORIES:Sales
END:VEVENT
BEGIN:VEVENT
DTSTART;VALUE=DATE:20181126
DTEND;VALUE=DATE:20181210
DTSTAMP:20260422T072727
CREATED:20181101T013137Z
LAST-MODIFIED:20181101T013137Z
UID:10860-1543190400-1544399999@www.gpoguam.com
SUMMARY:Tommy Hilfiger Holiday Countdown Sale
DESCRIPTION:Holiday Countdown \nUp to 50% off Entire Store* \nPresent this offer in-store and receive \n20% off your purchase of $150 or more or 15% off your entire purchase** \nNovember 26 – December 9 \n*Original store price. Valid on select items. All styles not available at all locations. May not be available on tommy.com. **THIS OFFER EXPIRES ON 12/9/18 and is redeemable for an amount up to the discount stated on this Offer and must be presented in-person at Tommy Hilfiger stores in the United States\, Puerto Rico\, and Guam. It may be used only once whether or not fully redeemed and must be surrendered at purchase with any remaining value of the Offer forfeited. Not redeemable for store credit or cash. The Offer may not be combined with any other promotion and has no cash value. It is not valid for previously purchased merchandise\, gift cards\, or Internet transactions. Any discount (as shown on the receipt) applied to merchandise that is returned will be deducted from any refund amount. Customer must present card at time of purchase to receive the Offer. Reproductions of the Offer will not be accepted. PVH associates not eligible. Not valid in department stores\, Clearance stores\, South Beach – FL\, 5th Ave. – NY\, Tommy Hilfiger stores in Canada\, or on tommy.com. Promo Code: 500019922000
URL:https://www.gpoguam.com/event/tommy-hilfiger-holiday-countdown-sale/
LOCATION:Tommy Hilfiger
CATEGORIES:Sales
END:VEVENT
BEGIN:VEVENT
DTSTART;VALUE=DATE:20181124
DTEND;VALUE=DATE:20181126
DTSTAMP:20260422T072727
CREATED:20181115T004654Z
LAST-MODIFIED:20181115T004654Z
UID:10886-1543017600-1543190399@www.gpoguam.com
SUMMARY:Tommy Hilfiger Black Friday Weekend Sale
DESCRIPTION:Black Friday Weekend \n40-60% off Entire Store* \nPlus\, present this offer in-store and receive \n20% off your purchase of $150+ or 15% off your entire purchase** \nNovember 24 – 25 \n*Original store price. Valid on select items. All styles not available at all locations. May not be available on tommy.com. **THIS OFFER EXPIRES ON 11/25/18 and is redeemable for an amount up to the discount stated on this Offer and must be presented in-person at Tommy Hilfiger stores in the United States\, Puerto Rico\, and Guam. It may be used only once whether or not fully redeemed and must be surrendered at purchase with any remaining value of the Offer forfeited. Not redeemable for store credit or cash. The Offer may not be combined with any other promotion and has no cash value. It is not valid for previously purchased merchandise\, gift cards\, or Internet transactions. Any discount (as shown on the receipt) applied to merchandise that is returned will be deducted from any refund amount. Customer must present card at time of purchase to receive the Offer. Reproductions of the Offer will not be accepted. PVH associates not eligible. Not valid in department stores\, Clearance stores\, South Beach – FL\, 5th Ave. – NY\, Tommy Hilfiger stores in Canada\, or on tommy.com. Promo Code: 500019920000
URL:https://www.gpoguam.com/event/tommy-hilfiger-black-friday-weekend-sale/
LOCATION:Tommy Hilfiger
CATEGORIES:Sales
END:VEVENT
BEGIN:VEVENT
DTSTART;VALUE=DATE:20181123
DTEND;VALUE=DATE:20181124
DTSTAMP:20260422T072727
CREATED:20181031T050437Z
LAST-MODIFIED:20181031T050437Z
UID:10835-1542931200-1543017599@www.gpoguam.com
SUMMARY:Black Friday
DESCRIPTION:Take advantage of Black Friday Deals at our stores starting at 6am. \nPrizes will be given out every hour between 7am – 10am with Shanice Poe.
URL:https://www.gpoguam.com/event/black-friday/
LOCATION:GPO Shopping Center
CATEGORIES:Sales
END:VEVENT
BEGIN:VEVENT
DTSTART;VALUE=DATE:20181122
DTEND;VALUE=DATE:20181124
DTSTAMP:20260422T072727
CREATED:20181101T012942Z
LAST-MODIFIED:20181115T004448Z
UID:10858-1542844800-1543017599@www.gpoguam.com
SUMMARY:Tommy Hilfiger Black Friday Sale
DESCRIPTION:Black Friday \n50% off Everything* \nPresent this offer in-store and receive \n25% off your purchase of $200+ (through 10am Friday)** \nPromo Code: 500019921000 \n20% off your purchase of $150+ or 15% off your entire purchase (rest of the day)** \nPromo Code: 500019920000 \nNovember 22 – 23 \n*Original store price. Valid on select items. All styles not available at all locations. May not be available on tommy.com. **THIS OFFER EXPIRES ON 11/23/18 and is redeemable for an amount up to the discount stated on this Offer and must be presented in-person at Tommy Hilfiger stores in the United States\, Puerto Rico\, and Guam. It may be used only once whether or not fully redeemed and must be surrendered at purchase with any remaining value of the Offer forfeited. Not redeemable for store credit or cash. The Offer may not be combined with any other promotion and has no cash value. It is not valid for previously purchased merchandise\, gift cards\, or Internet transactions. Any discount (as shown on the receipt) applied to merchandise that is returned will be deducted from any refund amount. Customer must present card at time of purchase to receive the Offer. Reproductions of the Offer will not be accepted. PVH associates not eligible. Not valid in department stores\, Clearance stores\, South Beach – FL\, 5th Ave. – NY\, Tommy Hilfiger stores in Canada\, or on tommy.com.
URL:https://www.gpoguam.com/event/tommy-hilfiger-black-friday-sale/
LOCATION:Tommy Hilfiger
CATEGORIES:Sales
END:VEVENT
BEGIN:VEVENT
DTSTART;VALUE=DATE:20181119
DTEND;VALUE=DATE:20181122
DTSTAMP:20260422T072727
CREATED:20181101T012744Z
LAST-MODIFIED:20181115T004513Z
UID:10855-1542585600-1542844799@www.gpoguam.com
SUMMARY:Tommy Hilfiger Black Friday Week Sale
DESCRIPTION:Black Friday Week \n40% off Entire Store* \nPlus\, present this offer in-store and receive \n20% off your purchase of $150+ or 15% off your entire purchase** \nNovember 19 – 21 \n*Original store price. Valid on select items. All styles not available at all locations. May not be available on tommy.com. **THIS OFFER EXPIRES ON 11/21/18 and is redeemable for an amount up to the discount stated on this Offer and must be presented in-person at Tommy Hilfiger stores in the United States\, Puerto Rico\, and Guam. It may be used only once whether or not fully redeemed and must be surrendered at purchase with any remaining value of the Offer forfeited. Not redeemable for store credit or cash. The Offer may not be combined with any other promotion and has no cash value. It is not valid for previously purchased merchandise\, gift cards\, or Internet transactions. Any discount (as shown on the receipt) applied to merchandise that is returned will be deducted from any refund amount. Customer must present card at time of purchase to receive the Offer. Reproductions of the Offer will not be accepted. PVH associates not eligible. Not valid in department stores\, Clearance stores\, South Beach – FL\, 5th Ave. – NY\, Tommy Hilfiger stores in Canada\, or on tommy.com. Promo Code: 500019920000
URL:https://www.gpoguam.com/event/tommy-hilfiger-black-friday-week-sale/
LOCATION:Tommy Hilfiger
CATEGORIES:Sales
END:VEVENT
BEGIN:VEVENT
DTSTART;VALUE=DATE:20181115
DTEND;VALUE=DATE:20181119
DTSTAMP:20260422T072727
CREATED:20181115T005555Z
LAST-MODIFIED:20181115T005555Z
UID:10890-1542240000-1542585599@www.gpoguam.com
SUMMARY:Calvin Klein Sale
DESCRIPTION:Calvin Klein Outlet & Calvin Klein Accessory Stores \n11.15.18 – 11.18.18 \nCalvin Klein Outlet \nAll men’s and women’s apparel + outerwear 50% off \n*Some Exclusions Apply \nCalvin Klein Accessory Stores \nEntire Store Up To 50% off \n*Exclusions Apply
URL:https://www.gpoguam.com/event/calvin-klein-sale-2/
LOCATION:Calvin Klein
CATEGORIES:Sales
END:VEVENT
BEGIN:VEVENT
DTSTART;VALUE=DATE:20181109
DTEND;VALUE=DATE:20181112
DTSTAMP:20260422T072727
CREATED:20181101T010045Z
LAST-MODIFIED:20181101T013533Z
UID:10853-1541721600-1541980799@www.gpoguam.com
SUMMARY:Tommy Hilfiger Single's Day Sale
DESCRIPTION:Singles’ Day Sale \nPresent this offer in-store and receive \n20% off your purchase of $150+ or 15% off your entire purchase** \nNovember 9 –November 11 \nAll styles not available at all locations. May not be available on tommy.com. *THIS OFFER EXPIRES ON 11/11/18 and is redeemable for an amount up to the discount stated on this Offer and must be presented in-person at Tommy Hilfiger stores in the United States\, Puerto Rico\, and Guam. It may be used only once whether or not fully redeemed and must be surrendered at purchase with any remaining value of the Offer forfeited. Not redeemable for store credit or cash. The Offer may not be combined with any other promotion and has no cash value. It is not valid for previously purchased merchandise\, gift cards\, or Internet transactions. Any discount (as shown on the receipt) applied to merchandise that is returned will be deducted from any refund amount. Customer must present card at time of purchase to receive the Offer. Reproductions of the Offer will not be accepted. PVH associates not eligible. Not valid in department stores\, Clearance stores\, South Beach – FL\, 5th Ave. – NY\, Tommy Hilfiger stores in Canada\, or on tommy.com. Promo Code: 500019919000
URL:https://www.gpoguam.com/event/tommy-hilfiger-singles-day-sale/
LOCATION:Tommy Hilfiger
CATEGORIES:Sales
END:VEVENT
BEGIN:VEVENT
DTSTART;VALUE=DATE:20181107
DTEND;VALUE=DATE:20181119
DTSTAMP:20260422T072727
CREATED:20181101T004255Z
LAST-MODIFIED:20181101T013552Z
UID:10851-1541548800-1542585599@www.gpoguam.com
SUMMARY:Tommy Hilfiger Black Friday Presale
DESCRIPTION:Black Friday Presale \nUp to 50% off*  \nPlus\, present this offer in-store and receive \n20% off your purchase of $150+ or 15% off your entire purchase** \nNovember 7 – 18 \n*Original store price. Valid on select items. All styles not available at all locations. May not be available on tommy.com. **THIS OFFER EXPIRES ON 11/18/18 and is redeemable for an amount up to the discount stated on this Offer and must be presented in-person at Tommy Hilfiger stores in the United States\, Puerto Rico\, and Guam. It may be used only once whether or not fully redeemed and must be surrendered at purchase with any remaining value of the Offer forfeited. Not redeemable for store credit or cash. The Offer may not be combined with any other promotion and has no cash value. It is not valid for previously purchased merchandise\, gift cards\, or Internet transactions. Any discount (as shown on the receipt) applied to merchandise that is returned will be deducted from any refund amount. Customer must present card at time of purchase to receive the Offer. Reproductions of the Offer will not be accepted. PVH associates not eligible Not valid in department stores\, Clearance stores\, South Beach – FL\, 5th Ave. – NY\, Tommy Hilfiger stores in Canada\, or on tommy.com. Promo Code: 500019918000
URL:https://www.gpoguam.com/event/tommy-hilfiger-black-friday-presale/
CATEGORIES:Sales
END:VEVENT
BEGIN:VEVENT
DTSTART;VALUE=DATE:20181101
DTEND;VALUE=DATE:20181108
DTSTAMP:20260422T072727
CREATED:20181101T014733Z
LAST-MODIFIED:20181101T014733Z
UID:10880-1541030400-1541635199@www.gpoguam.com
SUMMARY:Calvin Klein Sale
DESCRIPTION:Calvin Klein Outlet & Calvin Klein Accessory Stores \n11.1.18 – 11.7.18 \nCalvin Klein Outlet \nEntire Store up to 50% Off \nCalvin Klein Accessory Store \nEntire Store up to 70% Off \n*Some Exclusions Apply
URL:https://www.gpoguam.com/event/calvin-klein-sale/
LOCATION:Calvin Klein
CATEGORIES:Sales
END:VEVENT
BEGIN:VEVENT
DTSTART;VALUE=DATE:20181030
DTEND;VALUE=DATE:20181105
DTSTAMP:20260422T072727
CREATED:20181031T045925Z
LAST-MODIFIED:20181031T045925Z
UID:10824-1540857600-1541375999@www.gpoguam.com
SUMMARY:Famous Footwear Sale
DESCRIPTION:Just the deal you were looking for. Save 15% in-store with this barcode now through 11/4.
URL:https://www.gpoguam.com/event/famous-footwear-sale/
LOCATION:Famous Footwear
CATEGORIES:Sales
END:VEVENT
BEGIN:VEVENT
DTSTART;VALUE=DATE:20180913
DTEND;VALUE=DATE:20180920
DTSTAMP:20260422T072727
CREATED:20180913T012835Z
LAST-MODIFIED:20180913T012835Z
UID:10703-1536796800-1537401599@www.gpoguam.com
SUMMARY:Calvin Klein 50% Off
DESCRIPTION:Calvin Klein Outlet & Calvin Klein Accessory Stores \n9.5.18 – 9.12.18 \nEntire Store up to 50% Off \n*Some Exclusions Apply
URL:https://www.gpoguam.com/event/calvin-klein-50-off-4/
LOCATION:Calvin Klein
CATEGORIES:Sales
END:VEVENT
BEGIN:VEVENT
DTSTART;VALUE=DATE:20180905
DTEND;VALUE=DATE:20180913
DTSTAMP:20260422T072727
CREATED:20180906T000250Z
LAST-MODIFIED:20180906T000250Z
UID:10699-1536105600-1536796799@www.gpoguam.com
SUMMARY:Calvin Klein 50% Off
DESCRIPTION:Calvin Klein Outlet & Calvin Klein Accessory Stores \n9.5.18 – 9.12.18 \nEntire Store up to 50% Off \n*Some Exclusions Apply
URL:https://www.gpoguam.com/event/calvin-klein-50-off-3/
LOCATION:Calvin Klein
CATEGORIES:Sales
END:VEVENT
BEGIN:VEVENT
DTSTART;VALUE=DATE:20180816
DTEND;VALUE=DATE:20180823
DTSTAMP:20260422T072727
CREATED:20180815T200326Z
LAST-MODIFIED:20180815T212241Z
UID:10352-1534377600-1534982399@www.gpoguam.com
SUMMARY:Calvin Klein 50% Off
DESCRIPTION:Shop iconic essentials at Calvin Klein Outlet & Calvin Klein Accessory Stores. Enjoy up to 50% off your purchase. \n*Exlusions Apply
URL:https://www.gpoguam.com/event/calvin-klein-50-off/
LOCATION:Calvin Klein
CATEGORIES:Sales
END:VEVENT
BEGIN:VEVENT
DTSTART;TZID=UTC:20151229T100000
DTEND;TZID=UTC:20151229T220000
DTSTAMP:20260422T072727
CREATED:20151126T233828Z
LAST-MODIFIED:20151126T233828Z
UID:8204-1451383200-1451426400@www.gpoguam.com
SUMMARY:Shopping Fever: Save Up To 75%
DESCRIPTION:Sed rutrum\, libero non pretium tristique\, arcu mi sollicitudin ex\, quis venenatis orci tellus vel dolor. Donec gravida\, dolor ut auctor facilisis\, enim dolor pellentesque lectus\, nec vehicula nibh risus ac leo. Mauris volutpat aliquam tellus nec rhoncus. Aliquam et nibh pulvinar\, sodales nibh et\, pretium urna. Vivamus quam augue\, maximus in consequat imperdiet\, iaculis non nibh. Aliquam erat volutpat. Curabitur venenatis massa sed lacus tristique\, non auctor nisl sodales. Sed ultricies lacus ut libero faucibus fringilla. Ut nisi tellus\, posuere vel mattis nec\, convallis a metus. Nullam elementum molestie felis nec lobortis. Cras at justo eu elit semper tempor sed quis orci. In risus magna\, malesuada vel elementum ut\, finibus et nunc. \nCras dapibus ullamcorper dictum. Vivamus nec erat placerat felis scelerisque porttitor in ac turpis. In nec imperdiet turpis. Suspendisse quis orci ut orci pulvinar eleifend. Nulla eu mattis ipsum. Integer eget sagittis nulla. Praesent consectetur lacus et maximus eleifend. Integer non lacus dui. Mauris tortor diam\, laoreet quis commodo vitae\, sodales vel augue.
URL:https://www.gpoguam.com/event/shopping-fever-save-up-to-75/
LOCATION:Shopping Mall\, 195-199 5th Ave New York\, New York\, United States
CATEGORIES:Sales
ATTACH;FMTTYPE=image/jpeg:https://www.gpoguam.com/wp-content/uploads/2015/11/03.jpg
END:VEVENT
BEGIN:VEVENT
DTSTART;TZID=UTC:20151212T100000
DTEND;TZID=UTC:20151212T220000
DTSTAMP:20260422T072727
CREATED:20151126T235816Z
LAST-MODIFIED:20151126T235816Z
UID:8222-1449914400-1449957600@www.gpoguam.com
SUMMARY:Black Weekend
DESCRIPTION:Sed rutrum\, libero non pretium tristique\, arcu mi sollicitudin ex\, quis venenatis orci tellus vel dolor. Donec gravida\, dolor ut auctor facilisis\, enim dolor pellentesque lectus\, nec vehicula nibh risus ac leo. Mauris volutpat aliquam tellus nec rhoncus. Aliquam et nibh pulvinar\, sodales nibh et\, pretium urna. Vivamus quam augue\, maximus in consequat imperdiet\, iaculis non nibh. Aliquam erat volutpat. Curabitur venenatis massa sed lacus tristique\, non auctor nisl sodales. Sed ultricies lacus ut libero faucibus fringilla. Ut nisi tellus\, posuere vel mattis nec\, convallis a metus. Nullam elementum molestie felis nec lobortis. Cras at justo eu elit semper tempor sed quis orci. In risus magna\, malesuada vel elementum ut\, finibus et nunc. \nCras dapibus ullamcorper dictum. Vivamus nec erat placerat felis scelerisque porttitor in ac turpis. In nec imperdiet turpis. Suspendisse quis orci ut orci pulvinar eleifend. Nulla eu mattis ipsum. Integer eget sagittis nulla. Praesent consectetur lacus et maximus eleifend. Integer non lacus dui. Mauris tortor diam\, laoreet quis commodo vitae\, sodales vel augue.
URL:https://www.gpoguam.com/event/black-weekend/
LOCATION:Shopping Mall\, 195-199 5th Ave New York\, New York\, United States
CATEGORIES:Sales
ATTACH;FMTTYPE=image/jpeg:https://www.gpoguam.com/wp-content/uploads/2015/11/04.jpg
END:VEVENT
END:VCALENDAR