BEGIN:VCALENDAR
VERSION:2.0
PRODID:-//GPO Guam - ECPv6.0.12//NONSGML v1.0//EN
CALSCALE:GREGORIAN
METHOD:PUBLISH
X-ORIGINAL-URL:https://www.gpoguam.com
X-WR-CALDESC:Events for GPO Guam
REFRESH-INTERVAL;VALUE=DURATION:PT1H
X-Robots-Tag:noindex
X-PUBLISHED-TTL:PT1H
BEGIN:VTIMEZONE
TZID:Pacific/Guam
BEGIN:STANDARD
TZOFFSETFROM:+1000
TZOFFSETTO:+1000
TZNAME:ChST
DTSTART:20200101T000000
END:STANDARD
END:VTIMEZONE
BEGIN:VEVENT
DTSTART;VALUE=DATE:20210206
DTEND;VALUE=DATE:20210501
DTSTAMP:20260420T231027
CREATED:20210223T034958Z
LAST-MODIFIED:20210223T034958Z
UID:13457-1612569600-1619827199@www.gpoguam.com
SUMMARY:ABC STORES: DRIED MANGO HOT PROMOTION
DESCRIPTION:ABC Stores: Dried Mango Hot Promotion \nFrom now until April 30\, 2021 Dole Dried Mango is 3 for $7 \nStop by ABC Stores today from 11am – 8pm for this amazing deal! \n 
URL:https://www.gpoguam.com/event/abc-stores-dried-mango-hot-promotion/
LOCATION:ABC Stores\, Tamuning\, 96913\, Guam
CATEGORIES:Food & Beverage,Sales,Variety
END:VEVENT
BEGIN:VEVENT
DTSTART;VALUE=DATE:20210117
DTEND;VALUE=DATE:20210201
DTSTAMP:20260420T231027
CREATED:20210118T030908Z
LAST-MODIFIED:20210118T030908Z
UID:13357-1610841600-1612137599@www.gpoguam.com
SUMMARY:TWINKLES: BACK TO SCHOOL SALE
DESCRIPTION:Twinkles: Back To School Sale \nGet 40% OFF on school supplies & backpacks at Twinkles today! \nLet’s conquer 2021 together & stay safe! \nTwinkles is open from 11am – 7pm daily. \nFor more information on products or sale available call #647-6557 \n 
URL:https://www.gpoguam.com/event/twinkles-back-to-school-sale-2/
LOCATION:Twinkles
CATEGORIES:Sales,Variety
END:VEVENT
BEGIN:VEVENT
DTSTART;VALUE=DATE:20201127
DTEND;VALUE=DATE:20201130
DTSTAMP:20260420T231027
CREATED:20201128T024904Z
LAST-MODIFIED:20201128T024904Z
UID:13222-1606435200-1606694399@www.gpoguam.com
SUMMARY:ABC STORES: Black Friday Sale
DESCRIPTION:ABC STORES: Black Friday Sale \nPROMO VALID UNTIL: November 29\, 2020 \n-2 for $30 on Stella Rosa (Regular Price: $17.99 – $18.99) \n-2 for $60 on Napa Valley Quilt Cabernet or Belle Glos Pinot Noir (Regular Price: $36.99) \n-Tito’s Vodka 1.75L (Regular Price: $46.99) \n*EXCLUSIONS MAY APPLY.
URL:https://www.gpoguam.com/event/abc-stores-black-friday-sale/
LOCATION:ABC Stores\, Tamuning\, 96913\, Guam
CATEGORIES:Sales,Variety
END:VEVENT
BEGIN:VEVENT
DTSTART;VALUE=DATE:20201127
DTEND;VALUE=DATE:20201130
DTSTAMP:20260420T231027
CREATED:20201124T083724Z
LAST-MODIFIED:20201124T083724Z
UID:13182-1606435200-1606694399@www.gpoguam.com
SUMMARY:BESTSELLER: Black Friday Sale
DESCRIPTION:Bestseller: Black Friday Sale \n20% OFF Calendars\, Planners\, Hallmark Ornaments\, Neck Pillows\, & BLCC Members  \n$5 on select books *VALID UNTIL: 11/29/20 \n  \nPlus\, receive a  FREE Holiday Magazine \n when you purchase of $25+ upon checkout. *WHILE SUPPLIES LAST.
URL:https://www.gpoguam.com/event/bestseller-black-friday-sale/
CATEGORIES:Sales,Variety
END:VEVENT
BEGIN:VEVENT
DTSTART;VALUE=DATE:20201127
DTEND;VALUE=DATE:20201128
DTSTAMP:20260420T231027
CREATED:20201125T110308Z
LAST-MODIFIED:20201125T110308Z
UID:13199-1606435200-1606521599@www.gpoguam.com
SUMMARY:TWINKLES: Black Friday Sale
DESCRIPTION:Twinkles: Black Friday Sale \nTake advantage of the HUGEST sale before Christmas season!! \nALL toys are 40-60% OFF \n*EXCLUSIONS MAY APPLY.
URL:https://www.gpoguam.com/event/twinkles-black-friday-sale/
LOCATION:Twinkles
CATEGORIES:Sales,Variety
END:VEVENT
BEGIN:VEVENT
DTSTART;VALUE=DATE:20201113
DTEND;VALUE=DATE:20201201
DTSTAMP:20260420T231028
CREATED:20201119T074006Z
LAST-MODIFIED:20201119T074006Z
UID:13163-1605225600-1606780799@www.gpoguam.com
SUMMARY:MEMORIES OF GUAM: BUY 2 GET 1 FREE
DESCRIPTION:Memories of Guam: Buy Two Get One FREE \nBuy Two Get One FREE! \nOffer applies in store and online at www.memoriesofguam.com \nuse code 𝐅𝐑𝐄𝐄𝐁𝐄𝐀𝐑 upon checking out! ⁣ \n⁣Available in 4 other colors ⁣
URL:https://www.gpoguam.com/event/memories-of-guam-buy-2-get-1-free/
LOCATION:Memories of Guam\, Tamuning\, 96913\, Guam
CATEGORIES:Sales,Variety
END:VEVENT
BEGIN:VEVENT
DTSTART;VALUE=DATE:20201101
DTEND;VALUE=DATE:20201201
DTSTAMP:20260420T231028
CREATED:20201119T072917Z
LAST-MODIFIED:20201119T073008Z
UID:13156-1604188800-1606780799@www.gpoguam.com
SUMMARY:MEMORIES OF GUAM: EARLY BLACK FRIDAY SALE
DESCRIPTION:Memories of Guam: Early Black Friday Sale \nValid Until: November 30\, 2020⁣\n⁣\nBuy 1 get 1 FREE all Guam cases ( offer applies in store ONLY) ⁣
URL:https://www.gpoguam.com/event/memories-of-guam-early-black-friday-sale/
LOCATION:Memories of Guam\, Tamuning\, 96913\, Guam
CATEGORIES:Sales,Variety
END:VEVENT
BEGIN:VEVENT
DTSTART;VALUE=DATE:20201016
DTEND;VALUE=DATE:20201028
DTSTAMP:20260420T231028
CREATED:20201119T073532Z
LAST-MODIFIED:20201119T073532Z
UID:13160-1602806400-1603843199@www.gpoguam.com
SUMMARY:MEMORIES OF GUAM: BUY ONE GET ONE FREE
DESCRIPTION:Memories of Guam: Buy One Get One FREE \nBuy One Get One FREE on Pop Sockets \nAvailable in store and online at www.memoriesofguam.com\n𝐔𝐬𝐞 𝐜𝐨𝐝𝐞 ( 𝐅𝐑𝐄𝐄𝟐𝟎 ) 𝐮𝐩𝐨𝐧 𝐜𝐡𝐞𝐜𝐤𝐢𝐧𝐠 𝐨𝐮𝐭. ⁣ \n\n⁣⁣\n•A grip to help you text easier\, take better pictures\, and stop phone drops ⁣⁣\n⁣⁣\n•A convenient stand so you can watch videos anywhere ⁣⁣\n⁣⁣\n•Collapse to fit in your pocket or bag ⁣⁣\n⁣⁣\n•Advanced reusable adhesive\, washable adhesive sticks to most cases. ⁣⁣
URL:https://www.gpoguam.com/event/memories-of-guam-buy-one-get-one-free/
LOCATION:Memories of Guam\, Tamuning\, 96913\, Guam
CATEGORIES:Sales,Variety
END:VEVENT
END:VCALENDAR